Workbook

Sheet 1810024501-noSymbol (7)
A1: Monthly average retail prices for selected products 1 2
A2: Frequency: Monthly
A3: Table: 18-10-0245-01
A4: Release date: 2024-02-07
A5: Geography: Canada, Province or territory
A9: Geography | B9: Canada
A10: Products | B10: 42736 | C10: 42767 | D10: 42795 | E10: 42826 | F10: 42856 | G10: 42887 | H10: 42917 | I10: 42948 | J10: 42979 | K10: 43009 | L10: 43040 | M10: 43070 | N10: 43101 | O10: 43132 | P10: 43160 | Q10: 43191 | R10: 43221 | S10: 43252 | T10: 43282 | U10: 43313 | V10: 43344 | W10: 43374 | X10: 43405 | Y10: 43435 | Z10: 43466 | AA10: 43497 | AB10: 43525 | AC10: 43556 | AD10: 43586 | AE10: 43617 | AF10: 43647 | AG10: 43678 | AH10: 43709 | AI10: 43739 | AJ10: 43770 | AK10: 43800 | AL10: 43831 | AM10: 43862 | AN10: 43891 | AO10: 43922 | AP10: 43952 | AQ10: 43983 | AR10: 44013 | AS10: 44044 | AT10: 44075 | AU10: 44105 | AV10: 44136 | AW10: 44166 | AX10: 44197 | AY10: 44228 | AZ10: 44256 | BA10: 44287 | BB10: 44317 | BC10: 44348 | BD10: 44378 | BE10: 44409 | BF10: 44440 | BG10: 44470 | BH10: 44501 | BI10: 44531 | BJ10: 44562 | BK10: 44593 | BL10: 44621 | BM10: 44652 | BN10: 44682 | BO10: 44713 | BP10: 44743 | BQ10: 44774 | BR10: 44805 | BS10: 44835 | BT10: 44866 | BU10: 44896 | BV10: 44927 | BW10: 44958 | BX10: 44986 | BY10: 45017 | BZ10: 45047 | CA10: 45078 | CB10: 45108 | CC10: 45139 | CD10: 45170 | CE10: 45200 | CF10: 45231 | CG10: 45261
B11: Dollars
A12: Cabbage, per km | B12: 1.78 | C12: 1.84 | D12: 1.88 | E12: 1.96 | F12: 2.31 | G12: 2.51 | H12: 2.06 | I12: 1.83 | J12: 1.61 | K12: 1.59 | L12: 1.53 | M12: 1.67 | N12: 1.81 | O12: 1.97 | P12: 1.97 | Q12: 2.08 | R12: 2.16 | S12: 2.28 | T12: 2.07 | U12: 2.07 | V12: 1.87 | W12: 1.96 | X12: 1.98 | Y12: 2.31 | Z12: 2.52 | AA12: 2.6 | AB12: 2.72 | AC12: 3.05 | AD12: 3.21 | AE12: 3.37 | AF12: 2.84 | AG12: 2.37 | AH12: 2.09 | AI12: 1.99 | AJ12: 1.95 | AK12: 2.22 | AL12: 2.28 | AM12: 2.22 | AN12: 2.08 | AO12: 2.15 | AP12: 2.48 | AQ12: 3.1 | AR12: 2.77 | AS12: 2.25 | AT12: 2.1 | AU12: 2.02 | AV12: 1.99 | AW12: 2.16 | AX12: 2.37 | AY12: 2.35 | AZ12: 2.29 | BA12: 2.41 | BB12: 2.45 | BC12: 2.55 | BD12: 2.38 | BE12: 2.12 | BF12: 1.96 | BG12: 1.9 | BH12: 1.9 | BI12: 2.09 | BJ12: 2.2 | BK12: 2.33 | BL12: 2.35 | BM12: 2.42 | BN12: 2.71 | BO12: 2.94 | BP12: 2.73 | BQ12: 2.46 | BR12: 2.22 | BS12: 2.17 | BT12: 2.44 | BU12: 2.42 | BV12: 2.59 | BW12: 2.64 | BX12: 2.61 | BY12: 2.87 | BZ12: 3.03 | CA12: 3.02 | CB12: 2.9 | CC12: 2.63 | CD12: 2.31 | CE12: 2.32 | CF12: 2.43 | CG12: 2.43
A13: Vegetable oil, 3 litres | B13: 5.67 | C13: 5.46 | D13: 5.45 | E13: 5.96 | F13: 5.82 | G13: 5.5 | H13: 4.62 | I13: 6.09 | J13: 5.73 | K13: 5.96 | L13: 5.81 | M13: 6.11 | N13: 5.79 | O13: 5.84 | P13: 4 | Q13: 5.99 | R13: 6.12 | S13: 5.9 | T13: 6.01 | U13: 6.19 | V13: 6.3 | W13: 5.97 | X13: 6.22 | Y13: 6.37 | Z13: 4.45 | AA13: 6.35 | AB13: 4.28 | AC13: 5.92 | AD13: 5.63 | AE13: 5.75 | AF13: 5.94 | AG13: 6.06 | AH13: 5.09 | AI13: 5.87 | AJ13: 6.13 | AK13: 6.12 | AL13: 4.25 | AM13: 6.13 | AN13: 6.17 | AO13: 6.61 | AP13: 5.7 | AQ13: 5.63 | AR13: 6.23 | AS13: 6.03 | AT13: 5.42 | AU13: 4.64 | AV13: 5.34 | AW13: 6.31 | AX13: 5.4 | AY13: 6 | AZ13: 6.37 | BA13: 6.48 | BB13: 6.84 | BC13: 7.07 | BD13: 7.97 | BE13: 8.45 | BF13: 9.38 | BG13: 9.55 | BH13: 8.15 | BI13: 10.11 | BJ13: 8.62 | BK13: 10.62 | BL13: 10.27 | BM13: 10.83 | BN13: 10.87 | BO13: 11.03 | BP13: 12.29 | BQ13: 12.01 | BR13: 10.92 | BS13: 10.56 | BT13: 11.1 | BU13: 11.41 | BV13: 11.38 | BW13: 11.33 | BX13: 11.35 | BY13: 11.26 | BZ13: 11.76 | CA13: 12.79 | CB13: 11.27 | CC13: 11.29 | CD13: 10.33 | CE13: 11.07 | CF13: 10.35 | CG13: 10.48
A14: Peanut butter, 1 km | B14: 3.88 | C14: 4.37 | D14: 3.97 | E14: 4.04 | F14: 4.2 | G14: 3.67 | H14: 4.11 | I14: 3.88 | J14: 3.93 | K14: 4.25 | L14: 4.55 | M14: 4.29 | N14: 3.9 | O14: 3.44 | P14: 4.47 | Q14: 4.51 | R14: 4.49 | S14: 4.76 | T14: 4.43 | U14: 4.65 | V14: 4.32 | W14: 4.42 | X14: 4.55 | Y14: 4.58 | Z14: 4.6 | AA14: 4.65 | AB14: 4.66 | AC14: 4.9 | AD14: 4.78 | AE14: 4.89 | AF14: 4.59 | AG14: 4.79 | AH14: 4.4 | AI14: 4.64 | AJ14: 4.44 | AK14: 4.51 | AL14: 4.63 | AM14: 4.47 | AN14: 4.8 | AO14: 4.79 | AP14: 4.78 | AQ14: 4.62 | AR14: 4.69 | AS14: 4.65 | AT14: 4.5 | AU14: 4.55 | AV14: 4.7 | AW14: 4.66 | AX14: 4.69 | AY14: 5.04 | AZ14: 5.12 | BA14: 4.87 | BB14: 4.81 | BC14: 4.76 | BD14: 4.73 | BE14: 4.63 | BF14: 4.87 | BG14: 4.91 | BH14: 5.19 | BI14: 4.79 | BJ14: 4.67 | BK14: 5.2 | BL14: 5.3 | BM14: 5.37 | BN14: 5.29 | BO14: 5.41 | BP14: 5.31 | BQ14: 5.36 | BR14: 5.41 | BS14: 5.49 | BT14: 5.32 | BU14: 5.53 | BV14: 5.36 | BW14: 5.76 | BX14: 6.22 | BY14: 6.11 | BZ14: 6.16 | CA14: 6.43 | CB14: 6.19 | CC14: 6.09 | CD14: 6.23 | CE14: 6.21 | CF14: 6.27 | CG14: 6.33
A15: Toothpaste, 100 mil | B15: 2.43 | C15: 2.78 | D15: 2.61 | E15: 2.73 | F15: 2.63 | G15: 2.86 | H15: 2.76 | I15: 2.71 | J15: 2.69 | K15: 2.75 | L15: 2.71 | M15: 2.85 | N15: 2.71 | O15: 2.68 | P15: 2.69 | Q15: 2.71 | R15: 2.77 | S15: 2.63 | T15: 2.89 | U15: 2.59 | V15: 2.83 | W15: 2.8 | X15: 2.86 | Y15: 2.82 | Z15: 2.77 | AA15: 2.72 | AB15: 2.91 | AC15: 3 | AD15: 2.86 | AE15: 2.84 | AF15: 2.92 | AG15: 2.81 | AH15: 3.07 | AI15: 3.01 | AJ15: 3.09 | AK15: 3.08 | AL15: 2.98 | AM15: 3.05 | AN15: 3.14 | AO15: 3.35 | AP15: 3.3 | AQ15: 3.03 | AR15: 3.22 | AS15: 3.16 | AT15: 3.05 | AU15: 3.14 | AV15: 3.23 | AW15: 3.27 | AX15: 3.07 | AY15: 3.19 | AZ15: 3.38 | BA15: 3.24 | BB15: 3.36 | BC15: 3.27 | BD15: 3.4 | BE15: 3.41 | BF15: 3.32 | BG15: 3.3 | BH15: 3.41 | BI15: 3.5 | BJ15: 3.22 | BK15: 3.56 | BL15: 3.48 | BM15: 3.55 | BN15: 3.56 | BO15: 3.58 | BP15: 3.59 | BQ15: 3.73 | BR15: 3.79 | BS15: 3.69 | BT15: 3.61 | BU15: 3.8 | BV15: 3.5 | BW15: 3.77 | BX15: 3.77 | BY15: 3.72 | BZ15: 3.84 | CA15: 3.74 | CB15: 3.87 | CC15: 3.69 | CD15: 3.84 | CE15: 3.65 | CF15: 3.82 | CG15: 3.86
A20: Footnotes:
A21: 1 | B21: Average price estimates for these products are derived using transaction data from Canadian grocery retailers. The composition of a given product category may change over time due to evolving consumer purchasing patterns and product availability. Therefore, average prices may not be fully comparable from one month to another and should not be used as a representative measure of pure price change through time. Note: Data are subject to revision.
A22: 2 | B22: For concepts and definitions, see the <a href=https://www150.statcan.gc.ca/n1/pub/62f0014m/62f0014m2022007-eng.htm" rel="external noopener noreferrer" target="_blank">Methodological Supplement for the Monthly Average Retail Prices Table (opens new window)</a> publication | C22: available in the Prices Analytical Series (62F0014M). Additional information | D22: including product details | E22: can be obtained by contacting the <a href="mailto:statcan.cpddisseminationunit-dpcunitedediffusion.statcan@statcan.gc.ca">Consumer Prices Division</a>."
A23: 3 | B23: Specific size - In most cases, a specific size or quantity can be easily identified as the measure of best fit for a particular product. For some products, a specific size or quantity is the most commonly purchased by a considerable amount (for example, 1 dozen eggs). Other products have multiple high-sale sizes over a large range (for example, milk). In this case we calculate separate average prices for each size (1 litre, 2 litres and 4 litres) in order to provide a fuller picture. Other products such as fresh produce and meats are often sold by weight, and provided as a price per kilogram. In these cases, one kilogram is applied as the specific size. These products are then standardized to ensure that the price per one kilogram is included in the average price calculation. The specific size alone provides sufficient coverage to produce a robust measure.
A24: 4 | B24: Standardized size - For certain products which are available to consumers in a wide variety of package sizes, prices for products within a set range of package sizes are standardized before the average price calculation. For example, prices for blocks of cheese ranging in size from 400 grams to 800 grams are adjusted to represent a 500 grams block of cheese, and are presented as such in the average prices table.
A28: How to cite: Statistics Canada. Table 18-10-0245-01 Monthly average retail prices for selected products
A29: https://www150.statcan.gc.ca/t1/tbl1/en/tv.action?pid=1810024501

Sheet Sheet1
A1: Monthly average retail prices for selected products 1 2
A2: Frequency: Monthly
A3: Table: 18-10-0245-01
A4: Release date: 2024-02-07
A5: Geography: Canada, Province or territory
A9: Geography
A10: Products | B10: 43101 | C10: 43132 | D10: 43160 | E10: 43191 | F10: 43221 | G10: 43252 | H10: 43282 | I10: 43313 | J10: 43344 | K10: 43374 | L10: 43405 | M10: 43435 | N10: 43466 | O10: 43497 | P10: 43525 | Q10: 43556 | R10: 43586 | S10: 43617 | T10: 43647 | U10: 43678 | V10: 43709 | W10: 43739 | X10: 43770 | Y10: 43800 | Z10: 43831 | AA10: 43862 | AB10: 43891 | AC10: 43922 | AD10: 43952 | AE10: 43983 | AF10: 44013 | AG10: 44044 | AH10: 44075 | AI10: 44105 | AJ10: 44136 | AK10: 44166 | AL10: 44197 | AM10: 44228 | AN10: 44256 | AO10: 44287 | AP10: 44317 | AQ10: 44348 | AR10: 44378 | AS10: 44409 | AT10: 44440 | AU10: 44470 | AV10: 44501 | AW10: 44531 | AX10: 44562 | AY10: 44593 | AZ10: 44621 | BA10: 44652 | BB10: 44682 | BC10: 44713 | BD10: 44743 | BE10: 44774 | BF10: 44805 | BG10: 44835 | BH10: 44866 | BI10: 44896 | BJ10: 44927 | BK10: 44958 | BL10: 44986 | BM10: 45017 | BN10: 45047 | BO10: 45078 | BP10: 45108 | BQ10: 45139 | BR10: 45170 | BS10: 45200 | BT10: 45231 | BU10: 45261
A12: Cabbage, per km | B12: ='1810024501-noSymbol (7)'!N12/'1810024501-noSymbol (7)'!B12-1 -> 0.016853933 | C12: ='1810024501-noSymbol (7)'!O12/'1810024501-noSymbol (7)'!C12-1 -> 0.070652174 | D12: ='1810024501-noSymbol (7)'!P12/'1810024501-noSymbol (7)'!D12-1 -> 0.04787234 | E12: ='1810024501-noSymbol (7)'!Q12/'1810024501-noSymbol (7)'!E12-1 -> 0.06122449 | F12: ='1810024501-noSymbol (7)'!R12/'1810024501-noSymbol (7)'!F12-1 -> -0.064935065 | G12: ='1810024501-noSymbol (7)'!S12/'1810024501-noSymbol (7)'!G12-1 -> -0.091633466 | H12: ='1810024501-noSymbol (7)'!T12/'1810024501-noSymbol (7)'!H12-1 -> 0.0048543689 | I12: ='1810024501-noSymbol (7)'!U12/'1810024501-noSymbol (7)'!I12-1 -> 0.13114754 | ... BU12: ='1810024501-noSymbol (7)'!CG12/'1810024501-noSymbol (7)'!BU12-1 -> 0.0041322314
A13: Vegetable oil, 3 litres | B13: ='1810024501-noSymbol (7)'!N13/'1810024501-noSymbol (7)'!B13-1 -> 0.021164021 | C13: ='1810024501-noSymbol (7)'!O13/'1810024501-noSymbol (7)'!C13-1 -> 0.06959707 | D13: ='1810024501-noSymbol (7)'!P13/'1810024501-noSymbol (7)'!D13-1 -> -0.26605505 | E13: ='1810024501-noSymbol (7)'!Q13/'1810024501-noSymbol (7)'!E13-1 -> 0.005033557 | F13: ='1810024501-noSymbol (7)'!R13/'1810024501-noSymbol (7)'!F13-1 -> 0.051546392 | G13: ='1810024501-noSymbol (7)'!S13/'1810024501-noSymbol (7)'!G13-1 -> 0.072727273 | H13: ='1810024501-noSymbol (7)'!T13/'1810024501-noSymbol (7)'!H13-1 -> 0.3008658 | I13: ='1810024501-noSymbol (7)'!U13/'1810024501-noSymbol (7)'!I13-1 -> 0.016420361 | ... BU13: ='1810024501-noSymbol (7)'!CG13/'1810024501-noSymbol (7)'!BU13-1 -> -0.08150745
A14: Peanut butter, 1 km | B14: ='1810024501-noSymbol (7)'!N14/'1810024501-noSymbol (7)'!B14-1 -> 0.0051546392 | C14: ='1810024501-noSymbol (7)'!O14/'1810024501-noSymbol (7)'!C14-1 -> -0.21281465 | D14: ='1810024501-noSymbol (7)'!P14/'1810024501-noSymbol (7)'!D14-1 -> 0.12594458 | E14: ='1810024501-noSymbol (7)'!Q14/'1810024501-noSymbol (7)'!E14-1 -> 0.11633663 | F14: ='1810024501-noSymbol (7)'!R14/'1810024501-noSymbol (7)'!F14-1 -> 0.069047619 | G14: ='1810024501-noSymbol (7)'!S14/'1810024501-noSymbol (7)'!G14-1 -> 0.29700272 | H14: ='1810024501-noSymbol (7)'!T14/'1810024501-noSymbol (7)'!H14-1 -> 0.077858881 | I14: ='1810024501-noSymbol (7)'!U14/'1810024501-noSymbol (7)'!I14-1 -> 0.19845361 | ... BU14: ='1810024501-noSymbol (7)'!CG14/'1810024501-noSymbol (7)'!BU14-1 -> 0.14466546
A15: Toothpaste, 100 mil | B15: ='1810024501-noSymbol (7)'!N15/'1810024501-noSymbol (7)'!B15-1 -> 0.11522634 | C15: ='1810024501-noSymbol (7)'!O15/'1810024501-noSymbol (7)'!C15-1 -> -0.035971223 | D15: ='1810024501-noSymbol (7)'!P15/'1810024501-noSymbol (7)'!D15-1 -> 0.030651341 | E15: ='1810024501-noSymbol (7)'!Q15/'1810024501-noSymbol (7)'!E15-1 -> -0.0073260073 | F15: ='1810024501-noSymbol (7)'!R15/'1810024501-noSymbol (7)'!F15-1 -> 0.053231939 | G15: ='1810024501-noSymbol (7)'!S15/'1810024501-noSymbol (7)'!G15-1 -> -0.08041958 | H15: ='1810024501-noSymbol (7)'!T15/'1810024501-noSymbol (7)'!H15-1 -> 0.047101449 | I15: ='1810024501-noSymbol (7)'!U15/'1810024501-noSymbol (7)'!I15-1 -> -0.044280443 | ... BU15: ='1810024501-noSymbol (7)'!CG15/'1810024501-noSymbol (7)'!BU15-1 -> 0.015789474
A20: Footnotes:
A21: 1
A22: 2
A23: 3
A24: 4
A28: How to cite: Statistics Canada. Table 18-10-0245-01 Monthly average retail prices for selected products
A29: https://www150.statcan.gc.ca/t1/tbl1/en/tv.action?pid=1810024501

Sheet FIG 1 Level
F2: Monthly average retail prices for selected products 1 2
F3: Frequency: Monthly
F4: Table: 18-10-0245-01
F5: Release date: 2024-02-07
F6: Geography: Canada, Province or territory

Sheet FIG 2 Y over Y
