Workbook

Sheet 3610010601- DATA
A1: Gross domestic product price indexes, quarterly
A2: Frequency: Quarterly
A3: Table: 36-10-0106-01 (formerly CANSIM 380-0066)
A4: Release date: 2023-11-30
A5: Geography: Canada
A9: Geography | B9: Canada
A10: Index | B10: Implicit price indexes
A11: Estimates | B11: Q1 2010 | C11: Q2 2010 | D11: Q3 2010 | E11: Q4 2010 | F11: Q1 2011 | G11: Q2 2011 | H11: Q3 2011 | I11: Q4 2011 | J11: Q1 2012 | K11: Q2 2012 | L11: Q3 2012 | M11: Q4 2012 | N11: Q1 2013 | O11: Q2 2013 | P11: Q3 2013 | Q11: Q4 2013 | R11: Q1 2014 | S11: Q2 2014 | T11: Q3 2014 | U11: Q4 2014 | V11: Q1 2015 | W11: Q2 2015 | X11: Q3 2015 | Y11: Q4 2015 | Z11: Q1 2016 | AA11: Q2 2016 | AB11: Q3 2016 | AC11: Q4 2016 | AD11: Q1 2017 | AE11: Q2 2017 | AF11: Q3 2017 | AG11: Q4 2017 | AH11: Q1 2018 | AI11: Q2 2018 | AJ11: Q3 2018 | AK11: Q4 2018 | AL11: Q1 2019 | AM11: Q2 2019 | AN11: Q3 2019 | AO11: Q4 2019 | AP11: Q1 2020 | AQ11: Q2 2020 | AR11: Q3 2020 | AS11: Q4 2020 | AT11: Q1 2021 | AU11: Q2 2021 | AV11: Q3 2021 | AW11: Q4 2021 | AX11: Q1 2022 | AY11: Q2 2022 | AZ11: Q3 2022 | BA11: Q4 2022 | BB11: Q1 2023 | BC11: Q2 2023 | BD11: Q3 2023
B12: 2017=100
A13: Final consumption expenditure | B13: 89.2 | C13: 89.4 | D13: 89.9 | E13: 90.4 | F13: 91.1 | G13: 91.7 | H13: 92.3 | I13: 92.7 | J13: 92.8 | K13: 93.1 | L13: 93.4 | M13: 93.8 | N13: 94.6 | O13: 94.7 | P13: 95.2 | Q13: 95.4 | R13: 96.2 | S13: 96.8 | T13: 97.1 | U13: 97.4 | V13: 97.4 | W13: 97.7 | X13: 98.3 | Y13: 98.5 | Z13: 98.5 | AA13: 98.6 | AB13: 98.8 | AC13: 99.2 | AD13: 99.6 | AE13: 100 | AF13: 99.8 | AG13: 100.5 | AH13: 100.9 | AI13: 101.3 | AJ13: 101.7 | AK13: 102 | AL13: 102.5 | AM13: 103.2 | AN13: 103.4 | AO13: 104.1 | AP13: 104.6 | AQ13: 105 | AR13: 105 | AS13: 105.5 | AT13: 106.4 | AU13: 106.9 | AV13: 107.9 | AW13: 109.4 | AX13: 111.5 | AY13: 113 | AZ13: 113.7 | BA13: 115 | BB13: 115.6 | BC13: 116.9 | BD13: 117.9
A14: Household final consumption expenditure | B14: 90.6 | C14: 90.6 | D14: 91 | E14: 91.6 | F14: 92.1 | G14: 92.7 | H14: 93.1 | I14: 93.6 | J14: 93.8 | K14: 94 | L14: 94.1 | M14: 94.4 | N14: 94.9 | O14: 95.1 | P14: 95.5 | Q14: 95.8 | R14: 96.5 | S14: 97.1 | T14: 97.4 | U14: 97.7 | V14: 97.6 | W14: 97.9 | X14: 98.5 | Y14: 98.7 | Z14: 98.8 | AA14: 98.9 | AB14: 99 | AC14: 99.4 | AD14: 99.8 | AE14: 99.9 | AF14: 99.8 | AG14: 100.5 | AH14: 101 | AI14: 101.4 | AJ14: 101.8 | AK14: 102 | AL14: 102.4 | AM14: 103.2 | AN14: 103.3 | AO14: 103.9 | AP14: 104 | AQ14: 103.1 | AR14: 104 | AS14: 104.7 | AT14: 105.3 | AU14: 106.2 | AV14: 107.4 | AW14: 108.9 | AX14: 110.7 | AY14: 112.8 | AZ14: 113.6 | BA14: 114.8 | BB14: 115.6 | BC14: 116.6 | BD14: 117.5
A15: Goods | B15: 92.8 | C15: 92.7 | D15: 92.8 | E15: 93.7 | F15: 94.6 | G15: 95.4 | H15: 95.5 | I15: 95.9 | J15: 96.4 | K15: 96.2 | L15: 96.3 | M15: 96.5 | N15: 96.8 | O15: 96.7 | P15: 97 | Q15: 97 | R15: 97.9 | S15: 98.5 | T15: 98.5 | U15: 98.4 | V15: 97.7 | W15: 98.2 | X15: 98.5 | Y15: 98.6 | Z15: 98.3 | AA15: 99 | AB15: 98.8 | AC15: 99.6 | AD15: 100.1 | AE15: 99.7 | AF15: 99.6 | AG15: 100.7 | AH15: 101.2 | AI15: 101.8 | AJ15: 102.1 | AK15: 102 | AL15: 102 | AM15: 103 | AN15: 103.1 | AO15: 103.8 | AP15: 103.5 | AQ15: 101.8 | AR15: 103.1 | AS15: 104.2 | AT15: 105.3 | AU15: 106.5 | AV15: 108.4 | AW15: 110.9 | AX15: 113.4 | AY15: 116.5 | AZ15: 116.9 | BA15: 118.2 | BB15: 118.4 | BC15: 119.4 | BD15: 120.4
A16: Durable goods | B16: 94.6 | C16: 95.4 | D16: 95.1 | E16: 94.8 | F16: 95.2 | G16: 94.7 | H16: 94.4 | I16: 94.4 | J16: 94.8 | K16: 94.8 | L16: 94.8 | M16: 95.1 | N16: 95.3 | O16: 95.1 | P16: 95.1 | Q16: 94.8 | R16: 95.4 | S16: 95.4 | T16: 95.5 | U16: 96.1 | V16: 96.7 | W16: 97.2 | X16: 97.1 | Y16: 97.3 | Z16: 98.2 | AA16: 99 | AB16: 99.1 | AC16: 99.6 | AD16: 100.2 | AE16: 99.9 | AF16: 99.5 | AG16: 100.3 | AH16: 100.5 | AI16: 100.5 | AJ16: 100.8 | AK16: 100.8 | AL16: 101.1 | AM16: 101.4 | AN16: 101.7 | AO16: 102.2 | AP16: 102.4 | AQ16: 102 | AR16: 103.5 | AS16: 104.7 | AT16: 106.2 | AU16: 107.5 | AV16: 109.1 | AW16: 111.5 | AX16: 113.6 | AY16: 115.4 | AZ16: 115.8 | BA16: 115.8 | BB16: 116.1 | BC16: 116.9 | BD16: 117
A17: Semi-durable goods | B17: 100.6 | C17: 100.5 | D17: 98.9 | E17: 99.3 | F17: 98.7 | G17: 99.6 | H17: 99.3 | I17: 98.6 | J17: 98.9 | K17: 99 | L17: 98.1 | M17: 98.3 | N17: 98.3 | O17: 98.3 | P17: 98.3 | Q17: 97.5 | R17: 97.9 | S17: 98.8 | T17: 99.2 | U17: 99.6 | V17: 99.8 | W17: 100 | X17: 100.6 | Y17: 100.4 | Z17: 100 | AA17: 100.6 | AB17: 100.8 | AC17: 100.8 | AD17: 100.4 | AE17: 99.6 | AF17: 100 | AG17: 100.1 | AH17: 99.9 | AI17: 100.3 | AJ17: 100.6 | AK17: 100.5 | AL17: 100.8 | AM17: 101 | AN17: 101.3 | AO17: 101.7 | AP17: 102.4 | AQ17: 99.5 | AR17: 100.7 | AS17: 101.3 | AT17: 101 | AU17: 100.6 | AV17: 100.7 | AW17: 101.3 | AX17: 102.3 | AY17: 103.2 | AZ17: 103.6 | BA17: 104.1 | BB17: 104.6 | BC17: 105.1 | BD17: 105
A18: Non-durable goods | B18: 89.9 | C18: 89.3 | D18: 90.2 | E18: 91.8 | F18: 93.2 | G18: 94.8 | H18: 95.1 | I18: 95.9 | J18: 96.6 | K18: 96.2 | L18: 96.6 | M18: 96.7 | N18: 97.2 | O18: 97.1 | P18: 97.6 | Q18: 98 | R18: 99.2 | S18: 100.1 | T18: 100 | U18: 99.3 | V18: 97.6 | W18: 98.3 | X18: 98.7 | Y18: 98.7 | Z18: 97.9 | AA18: 98.5 | AB18: 98.1 | AC18: 99.2 | AD18: 99.9 | AE18: 99.5 | AF18: 99.5 | AG18: 101 | AH18: 101.9 | AI18: 103 | AJ18: 103.3 | AK18: 103.1 | AL18: 103 | AM18: 104.5 | AN18: 104.4 | AO18: 105.3 | AP18: 104.5 | AQ18: 102.4 | AR18: 103.8 | AS18: 104.9 | AT18: 106.2 | AU18: 107.9 | AV18: 110.4 | AW18: 113.5 | AX18: 116.8 | AY18: 121.2 | AZ18: 121.8 | BA18: 123.9 | BB18: 123.9 | BC18: 125.3 | BD18: 127.1
A19: Services | B19: 88.9 | C19: 89 | D19: 89.6 | E19: 89.9 | F19: 90.2 | G19: 90.6 | H19: 91.1 | I19: 91.8 | J19: 91.7 | K19: 92.3 | L19: 92.4 | M19: 92.8 | N19: 93.5 | O19: 93.9 | P19: 94.4 | Q19: 94.8 | R19: 95.4 | S19: 96 | T19: 96.5 | U19: 97.1 | V19: 97.5 | W19: 97.6 | X19: 98.5 | Y19: 98.7 | Z19: 99.1 | AA19: 98.8 | AB19: 99.1 | AC19: 99.3 | AD19: 99.6 | AE19: 100.1 | AF19: 99.9 | AG19: 100.4 | AH19: 100.8 | AI19: 101.2 | AJ19: 101.5 | AK19: 102.1 | AL19: 102.8 | AM19: 103.3 | AN19: 103.5 | AO19: 104.1 | AP19: 104.4 | AQ19: 104.1 | AR19: 104.6 | AS19: 105 | AT19: 105.2 | AU19: 105.8 | AV19: 106.4 | AW19: 107.1 | AX19: 108.3 | AY19: 109.6 | AZ19: 110.7 | BA19: 112 | BB19: 113.1 | BC19: 114.2 | BD19: 115
A20: Household final consumption expenditure, excluding food and energy | B20: 91 | C20: 91.2 | D20: 91.4 | E20: 91.6 | F20: 91.9 | G20: 92.2 | H20: 92.6 | I20: 93 | J20: 93 | K20: 93.4 | L20: 93.5 | M20: 93.7 | N20: 94.2 | O20: 94.5 | P20: 94.9 | Q20: 95.1 | R20: 95.6 | S20: 96.1 | T20: 96.5 | U20: 97.1 | V20: 97.5 | W20: 97.7 | X20: 98.3 | Y20: 98.6 | Z20: 99 | AA20: 99 | AB20: 99.2 | AC20: 99.5 | AD20: 99.8 | AE20: 100 | AF20: 99.9 | AG20: 100.4 | AH20: 100.7 | AI20: 101.1 | AJ20: 101.4 | AK20: 101.8 | AL20: 102.3 | AM20: 102.8 | AN20: 103.1 | AO20: 103.6 | AP20: 104 | AQ20: 103.5 | AR20: 104.2 | AS20: 104.7 | AT20: 105.1 | AU20: 105.7 | AV20: 106.5 | AW20: 107.4 | AX20: 108.7 | AY20: 110.1 | AZ20: 111.1 | BA20: 112.2 | BB20: 113.3 | BC20: 114.3 | BD20: 114.9
A21: Non-profit institutions serving households' final consumption expenditure | B21: 89.6 | C21: 90.2 | D21: 91.3 | E21: 91 | F21: 90.7 | G21: 91.9 | H21: 91.9 | I21: 92.7 | J21: 93.6 | K21: 93 | L21: 93.2 | M21: 93.8 | N21: 95.4 | O21: 93.1 | P21: 94.1 | Q21: 93.8 | R21: 96.2 | S21: 96.5 | T21: 96.3 | U21: 96.3 | V21: 96.2 | W21: 97.3 | X21: 98.2 | Y21: 99.9 | Z21: 96.5 | AA21: 97 | AB21: 97.8 | AC21: 98.1 | AD21: 99 | AE21: 99.8 | AF21: 100.3 | AG21: 100.9 | AH21: 102.3 | AI21: 102.2 | AJ21: 103.6 | AK21: 103.6 | AL21: 103.9 | AM21: 105 | AN21: 105 | AO21: 104.7 | AP21: 105.1 | AQ21: 105.2 | AR21: 105.3 | AS21: 106.3 | AT21: 107.2 | AU21: 108.4 | AV21: 108.4 | AW21: 109.5 | AX21: 110.4 | AY21: 110.8 | AZ21: 111.3 | BA21: 111.4 | BB21: 111.9 | BC21: 112.2 | BD21: 112.5
A22: General governments final consumption expenditure | B22: 85.8 | C22: 86.2 | D22: 86.8 | E22: 87.4 | F22: 88.5 | G22: 89.2 | H22: 90.2 | I22: 90.4 | J22: 90.3 | K22: 90.9 | L22: 91.6 | M22: 92.1 | N22: 93.7 | O22: 93.8 | P22: 94.3 | Q22: 94.7 | R22: 95.3 | S22: 95.9 | T22: 96.4 | U22: 96.8 | V22: 97.2 | W22: 97.1 | X22: 97.7 | Y22: 97.8 | Z22: 98 | AA22: 97.9 | AB22: 98.4 | AC22: 98.7 | AD22: 99.1 | AE22: 100.3 | AF22: 100 | AG22: 100.6 | AH22: 100.7 | AI22: 100.9 | AJ22: 101.2 | AK22: 101.8 | AL22: 102.6 | AM22: 103.1 | AN22: 103.6 | AO22: 104.6 | AP22: 106 | AQ22: 109.8 | AR22: 107.6 | AS22: 107.7 | AT22: 109.1 | AU22: 108.6 | AV22: 109.4 | AW22: 110.7 | AX22: 113.8 | AY22: 113.8 | AZ22: 114.3 | BA22: 115.8 | BB22: 116.2 | BC22: 118.1 | BD22: 119.4
A23: Gross fixed capital formation | B23: 84.9 | C23: 85.5 | D23: 85.8 | E23: 85.9 | F23: 86.2 | G23: 86.9 | H23: 87.5 | I23: 88.3 | J23: 88.9 | K23: 89.2 | L23: 89.4 | M23: 89.5 | N23: 89.2 | O23: 89.9 | P23: 91 | Q23: 91.7 | R23: 92.4 | S23: 93.2 | T23: 93.8 | U23: 94.7 | V23: 95.6 | W23: 96 | X23: 96.6 | Y23: 96.9 | Z23: 97.8 | AA23: 97.6 | AB23: 98.3 | AC23: 98.8 | AD23: 99.6 | AE23: 100 | AF23: 99.7 | AG23: 100.7 | AH23: 100.6 | AI23: 101.6 | AJ23: 102.4 | AK23: 103.1 | AL23: 103.3 | AM23: 104.1 | AN23: 104.3 | AO23: 105.1 | AP23: 105.9 | AQ23: 105.6 | AR23: 106.8 | AS23: 108.5 | AT23: 111 | AU23: 113.9 | AV23: 116.9 | AW23: 120.1 | AX23: 123.9 | AY23: 126.7 | AZ23: 128.6 | BA23: 130.1 | BB23: 130.3 | BC23: 131.7 | BD23: 132.1
A24: Business gross fixed capital formation | B24: 85 | C24: 85.6 | D24: 86 | E24: 85.8 | F24: 86.1 | G24: 86.7 | H24: 87.4 | I24: 88.1 | J24: 88.7 | K24: 89.1 | L24: 89.2 | M24: 89.3 | N24: 89 | O24: 89.5 | P24: 90.6 | Q24: 91.3 | R24: 92.1 | S24: 92.9 | T24: 93.6 | U24: 94.6 | V24: 95.4 | W24: 95.6 | X24: 96.3 | Y24: 96.7 | Z24: 97.7 | AA24: 97.5 | AB24: 98.3 | AC24: 98.7 | AD24: 99.4 | AE24: 99.9 | AF24: 99.8 | AG24: 100.9 | AH24: 100.6 | AI24: 101.6 | AJ24: 102.4 | AK24: 103 | AL24: 103.2 | AM24: 104.1 | AN24: 104.3 | AO24: 105.2 | AP24: 105.9 | AQ24: 106 | AR24: 107.4 | AS24: 109.2 | AT24: 111.8 | AU24: 114.9 | AV24: 118.1 | AW24: 121.7 | AX24: 125.7 | AY24: 128.4 | AZ24: 130.4 | BA24: 131.9 | BB24: 132.3 | BC24: 133.6 | BD24: 134.2
... A31: General governments gross fixed capital formation | B31: 84.7 | C31: 85.4 | D31: 85.4 | E31: 86.4 | F31: 86.8 | G31: 87.7 | H31: 88.1 | I31: 89.4 | J31: 90.1 | K31: 89.8 | L31: 90.3 | M31: 90.6 | N31: 90.7 | O31: 91.4 | P31: 92.8 | Q31: 93.4 | R31: 93.9 | S31: 94.9 | T31: 94.9 | U31: 94.7 | V31: 96.7 | W31: 98 | X31: 98 | Y31: 98.1 | Z31: 98.2 | AA31: 98.1 | AB31: 98.5 | AC31: 99.2 | AD31: 100.4 | AE31: 100.4 | AF31: 99.5 | AG31: 99.7 | AH31: 100.8 | AI31: 101.6 | AJ31: 102.8 | AK31: 103.7 | AL31: 103.9 | AM31: 104.5 | AN31: 104.3 | AO31: 104.9 | AP31: 105.6 | AQ31: 103.8 | AR31: 104.2 | AS31: 104.8 | AT31: 107.2 | AU31: 109.1 | AV31: 110.8 | AW31: 112.2 | AX31: 115.1 | AY31: 118.4 | AZ31: 120 | BA31: 121.4 | BB31: 120.8 | BC31: 122.3 | BD31: 122.4
A32: Investment in inventories | B32: .. | C32: .. | D32: .. | E32: .. | F32: .. | G32: .. | H32: .. | I32: .. | J32: .. | K32: .. | L32: .. | M32: .. | N32: .. | O32: .. | P32: .. | Q32: .. | R32: .. | S32: .. | T32: .. | U32: .. | V32: .. | W32: .. | X32: .. | Y32: .. | Z32: .. | AA32: .. | AB32: .. | AC32: .. | AD32: .. | AE32: .. | AF32: .. | AG32: .. | AH32: .. | AI32: .. | AJ32: .. | AK32: .. | AL32: .. | AM32: .. | AN32: .. | AO32: .. | AP32: .. | AQ32: .. | AR32: .. | AS32: .. | AT32: .. | AU32: .. | AV32: .. | AW32: .. | AX32: .. | AY32: .. | AZ32: .. | BA32: .. | BB32: .. | BC32: .. | BD32: ..
A33: Exports of goods and services | B33: 90.6 | C33: 89.1 | D33: 89.5 | E33: 91.6 | F33: 94.3 | G33: 96.4 | H33: 96.2 | I33: 98.6 | J33: 96.6 | K33: 95.2 | L33: 94.5 | M33: 96.1 | N33: 96.8 | O33: 96.5 | P33: 98 | Q33: 97.1 | R33: 102.2 | S33: 100.8 | T33: 100 | U33: 97.9 | V33: 96.7 | W33: 97 | X33: 97.9 | Y33: 96.5 | Z33: 94.4 | AA33: 94.2 | AB33: 96.6 | AC33: 99.4 | AD33: 100.7 | AE33: 100.3 | AF33: 98 | AG33: 101 | AH33: 102 | AI33: 104.2 | AJ33: 106.7 | AK33: 101.5 | AL33: 104.9 | AM33: 105.2 | AN33: 104.6 | AO33: 105 | AP33: 101 | AQ33: 95 | AR33: 102 | AS33: 104.5 | AT33: 110.3 | AU33: 114 | AV33: 120.6 | AW33: 126.5 | AX33: 134 | AY33: 142.5 | AZ33: 138.6 | BA33: 138 | BB33: 134 | BC33: 129.6 | BD33: 134.7
A34: Exports of goods | B34: 91.1 | C34: 89.2 | D34: 89.7 | E34: 91.8 | F34: 95 | G34: 97.5 | H34: 97.1 | I34: 99.9 | J34: 97.4 | K34: 95.6 | L34: 94.5 | M34: 96.5 | N34: 97 | O34: 96.5 | P34: 98.4 | Q34: 97.1 | R34: 103.7 | S34: 101.8 | T34: 100.7 | U34: 98.4 | V34: 96.8 | W34: 96.7 | X34: 97.7 | Y34: 96 | Z34: 93.5 | AA34: 93.4 | AB34: 96.2 | AC34: 99.5 | AD34: 100.9 | AE34: 100.4 | AF34: 97.6 | AG34: 101 | AH34: 102.2 | AI34: 104.6 | AJ34: 107.6 | AK34: 101.2 | AL34: 105.4 | AM34: 105.7 | AN34: 104.7 | AO34: 105.2 | AP34: 100.2 | AQ34: 93.2 | AR34: 101.5 | AS34: 104.3 | AT34: 111.2 | AU34: 115.5 | AV34: 123.2 | AW34: 130 | AX34: 138.9 | AY34: 148.4 | AZ34: 143.5 | BA34: 142.4 | BB34: 136.8 | BC34: 131.2 | BD34: 137.3
A35: Exports of services | B35: 88 | C35: 88.3 | D35: 88.6 | E35: 89.9 | F35: 90.4 | G35: 91.1 | H35: 91.4 | I35: 91.8 | J35: 92.3 | K35: 92.7 | L35: 93.7 | M35: 94 | N35: 95.4 | O35: 96.1 | P35: 95.8 | Q35: 96.5 | R35: 94.8 | S35: 95.5 | T35: 96.2 | U35: 95.4 | V35: 95.7 | W35: 97.8 | X35: 99 | Y35: 98.8 | Z35: 98.5 | AA35: 98.3 | AB35: 98.8 | AC35: 99 | AD35: 99.6 | AE35: 99.8 | AF35: 99.6 | AG35: 101.1 | AH35: 101.4 | AI35: 102.2 | AJ35: 103.1 | AK35: 103.1 | AL35: 103.1 | AM35: 103.5 | AN35: 103.9 | AO35: 104 | AP35: 103.8 | AQ35: 102.2 | AR35: 103.7 | AS35: 104.7 | AT35: 106 | AU35: 107.3 | AV35: 109.6 | AW35: 111.9 | AX35: 114.6 | AY35: 118.7 | AZ35: 119 | BA35: 120.3 | BB35: 121.5 | BC35: 121.8 | BD35: 123.2
A36: Imports of goods and services | B36: 86.3 | C36: 86.2 | D36: 87.6 | E36: 87.4 | F36: 87.8 | G36: 89.2 | H36: 90.2 | I36: 92.1 | J36: 90.6 | K36: 91.4 | L36: 89.9 | M36: 89.8 | N36: 90.3 | O36: 90.3 | P36: 92.1 | Q36: 92.3 | R36: 95.3 | S36: 95.3 | T36: 95.1 | U36: 96.3 | V36: 97.8 | W36: 97.9 | X36: 101.1 | Y36: 100.9 | Z36: 100.7 | AA36: 98 | AB36: 99.6 | AC36: 100.9 | AD36: 100.9 | AE36: 102.3 | AF36: 97.9 | AG36: 99 | AH36: 100.1 | AI36: 101.8 | AJ36: 104.6 | AK36: 104.7 | AL36: 105.2 | AM36: 105.5 | AN36: 105 | AO36: 104.6 | AP36: 105.4 | AQ36: 104.5 | AR36: 103.6 | AS36: 103.6 | AT36: 103.8 | AU36: 104.6 | AV36: 109.7 | AW36: 112.5 | AX36: 116.2 | AY36: 120.1 | AZ36: 121.8 | BA36: 124.9 | BB36: 124.2 | BC36: 123.2 | BD36: 123.1
A37: Imports of goods | B37: 86.3 | C37: 86.3 | D37: 87.5 | E37: 87.6 | F37: 88.4 | G37: 89.8 | H37: 90.8 | I37: 93 | J37: 91.7 | K37: 92.3 | L37: 90.6 | M37: 90.3 | N37: 90.7 | O37: 90.5 | P37: 92.2 | Q37: 92.3 | R37: 95.7 | S37: 96 | T37: 95.6 | U37: 96.6 | V37: 98.3 | W37: 98.5 | X37: 101.9 | Y37: 101.7 | Z37: 101.1 | AA37: 98.1 | AB37: 99.7 | AC37: 101.2 | AD37: 101 | AE37: 102.3 | AF37: 97.9 | AG37: 98.8 | AH37: 100 | AI37: 101.6 | AJ37: 104.7 | AK37: 104.6 | AL37: 104.9 | AM37: 105.1 | AN37: 104.4 | AO37: 104 | AP37: 104.5 | AQ37: 103.1 | AR37: 102.3 | AS37: 102.4 | AT37: 102.6 | AU37: 103.5 | AV37: 108.8 | AW37: 112 | AX37: 116 | AY37: 120.6 | AZ37: 121.9 | BA37: 124.9 | BB37: 124.4 | BC37: 123.2 | BD37: 122.6
A38: Imports of services | B38: 86.1 | C38: 86 | D38: 87.9 | E38: 86.7 | F38: 85.5 | G38: 86.8 | H38: 87.9 | I38: 88.2 | J38: 86.2 | K38: 88 | L38: 87.3 | M38: 87.5 | N38: 88.8 | O38: 89.4 | P38: 91.6 | Q38: 92.1 | R38: 93.6 | S38: 92.8 | T38: 93.1 | U38: 95.1 | V38: 96.1 | W38: 95.7 | X38: 97.9 | Y38: 97.6 | Z38: 99 | AA38: 97.6 | AB38: 99.1 | AC38: 99.7 | AD38: 100.5 | AE38: 102.3 | AF38: 97.8 | AG38: 99.5 | AH38: 100.3 | AI38: 102.4 | AJ38: 104.3 | AK38: 105.3 | AL38: 106.3 | AM38: 107.2 | AN38: 107.2 | AO38: 106.7 | AP38: 108.8 | AQ38: 109.8 | AR38: 108.2 | AS38: 108.2 | AT38: 108 | AU38: 108.3 | AV38: 112.4 | AW38: 113.9 | AX38: 116.1 | AY38: 117.4 | AZ38: 120.5 | BA38: 124.1 | BB38: 122.7 | BC38: 122.3 | BD38: 123.8
A39: Statistical discrepancy | B39: .. | C39: .. | D39: .. | E39: .. | F39: .. | G39: .. | H39: .. | I39: .. | J39: .. | K39: .. | L39: .. | M39: .. | N39: .. | O39: .. | P39: .. | Q39: .. | R39: .. | S39: .. | T39: .. | U39: .. | V39: .. | W39: .. | X39: .. | Y39: .. | Z39: .. | AA39: .. | AB39: .. | AC39: .. | AD39: .. | AE39: .. | AF39: .. | AG39: .. | AH39: .. | AI39: .. | AJ39: .. | AK39: .. | AL39: .. | AM39: .. | AN39: .. | AO39: .. | AP39: .. | AQ39: .. | AR39: .. | AS39: .. | AT39: .. | AU39: .. | AV39: .. | AW39: .. | AX39: .. | AY39: .. | AZ39: .. | BA39: .. | BB39: .. | BC39: .. | BD39: ..
A40: Gross domestic product at market prices | B40: 89.8 | C40: 89.8 | D40: 89.9 | E40: 90.8 | F40: 92.1 | G40: 93 | H40: 93.1 | I40: 93.8 | J40: 93.9 | K40: 93.8 | L40: 94.2 | M40: 94.7 | N40: 95.6 | O40: 95.5 | P40: 96 | Q40: 96.1 | R40: 97.4 | S40: 97.7 | T40: 98.1 | U40: 97.4 | V40: 96.5 | W40: 96.8 | X40: 97.2 | Y40: 96.7 | Z40: 96.5 | AA40: 97.1 | AB40: 97.7 | AC40: 98.6 | AD40: 99.4 | AE40: 99.4 | AF40: 99.9 | AG40: 101.3 | AH40: 101.3 | AI40: 102 | AJ40: 102.3 | AK40: 101.1 | AL40: 102.3 | AM40: 103.1 | AN40: 103.3 | AO40: 104.2 | AP40: 103.5 | AQ40: 102.4 | AR40: 104.6 | AS40: 106.6 | AT40: 109.1 | AU40: 111.5 | AV40: 113 | AW40: 115.5 | AX40: 118.2 | AY40: 122.1 | AZ40: 121.7 | BA40: 121.7 | BB40: 120.9 | BC40: 121.4 | BD40: 123.6
A41: Final domestic demand | B41: 88.2 | C41: 88.5 | D41: 88.9 | E41: 89.3 | F41: 89.9 | G41: 90.6 | H41: 91.1 | I41: 91.7 | J41: 91.9 | K41: 92.2 | L41: 92.4 | M41: 92.7 | N41: 93.3 | O41: 93.6 | P41: 94.2 | Q41: 94.5 | R41: 95.3 | S41: 95.9 | T41: 96.3 | U41: 96.8 | V41: 97 | W41: 97.3 | X41: 97.9 | Y41: 98.1 | Z41: 98.3 | AA41: 98.4 | AB41: 98.7 | AC41: 99.1 | AD41: 99.6 | AE41: 100 | AF41: 99.8 | AG41: 100.6 | AH41: 100.8 | AI41: 101.4 | AJ41: 101.8 | AK41: 102.3 | AL41: 102.7 | AM41: 103.4 | AN41: 103.6 | AO41: 104.4 | AP41: 104.9 | AQ41: 105.1 | AR41: 105.4 | AS41: 106.2 | AT41: 107.4 | AU41: 108.5 | AV41: 110 | AW41: 111.8 | AX41: 114.3 | AY41: 116.1 | AZ41: 117.1 | BA41: 118.4 | BB41: 119 | BC41: 120.3 | BD41: 121.1
A43: Symbol legend:
A44: .. | B44: not available for a specific reference period
A49: How to cite: Statistics Canada. Table 36-10-0106-01 Gross domestic product price indexes, quarterly
A50: https://www150.statcan.gc.ca/t1/tbl1/en/tv.action?pid=3610010601

Sheet Yr over Yr
A1: Gross domestic product price indexes, quarterly
A2: Frequency: Quarterly
A3: Table: 36-10-0106-01 (formerly CANSIM 380-0066)
A4: Release date: 2023-11-30
A5: Geography: Canada
A9: Geography | B9: Canada
A10: Index | B10: Implicit price indexes
A11: Estimates | F11: Q1 2011 | G11: Q2 2011 | H11: Q3 2011 | I11: Q4 2011 | J11: Q1 2012 | K11: Q2 2012 | L11: Q3 2012 | M11: Q4 2012 | N11: Q1 2013 | O11: Q2 2013 | P11: Q3 2013 | Q11: Q4 2013 | R11: Q1 2014 | S11: Q2 2014 | T11: Q3 2014 | U11: Q4 2014 | V11: Q1 2015 | W11: Q2 2015 | X11: Q3 2015 | Y11: Q4 2015 | Z11: Q1 2016 | AA11: Q2 2016 | AB11: Q3 2016 | AC11: Q4 2016 | AD11: Q1 2017 | AE11: Q2 2017 | AF11: Q3 2017 | AG11: Q4 2017 | AH11: Q1 2018 | AI11: Q2 2018 | AJ11: Q3 2018 | AK11: Q4 2018 | AL11: Q1 2019 | AM11: Q2 2019 | AN11: Q3 2019 | AO11: Q4 2019 | AP11: Q1 2020 | AQ11: Q2 2020 | AR11: Q3 2020 | AS11: Q4 2020 | AT11: Q1 2021 | AU11: Q2 2021 | AV11: Q3 2021 | AW11: Q4 2021 | AX11: Q1 2022 | AY11: Q2 2022 | AZ11: Q3 2022 | BA11: Q4 2022 | BB11: Q1 2023 | BC11: Q2 2023 | BD11: Q3 2023
A13: Final consumption expenditure IPI | F13: ='3610010601- DATA'!F13/'3610010601- DATA'!B13-1 -> 0.021300448 | G13: ='3610010601- DATA'!G13/'3610010601- DATA'!C13-1 -> 0.025727069 | H13: ='3610010601- DATA'!H13/'3610010601- DATA'!D13-1 -> 0.026696329 | I13: ='3610010601- DATA'!I13/'3610010601- DATA'!E13-1 -> 0.025442478 | J13: ='3610010601- DATA'!J13/'3610010601- DATA'!F13-1 -> 0.018660812 | K13: ='3610010601- DATA'!K13/'3610010601- DATA'!G13-1 -> 0.015267176 | L13: ='3610010601- DATA'!L13/'3610010601- DATA'!H13-1 -> 0.01191766 | M13: ='3610010601- DATA'!M13/'3610010601- DATA'!I13-1 -> 0.011866235 | ... BD13: ='3610010601- DATA'!BD13/'3610010601- DATA'!AZ13-1 -> 0.036939314
A14: Household final consumption expenditure | F14: ='3610010601- DATA'!F14/'3610010601- DATA'!B14-1 -> 0.016556291 | G14: ='3610010601- DATA'!G14/'3610010601- DATA'!C14-1 -> 0.023178808 | H14: ='3610010601- DATA'!H14/'3610010601- DATA'!D14-1 -> 0.023076923 | I14: ='3610010601- DATA'!I14/'3610010601- DATA'!E14-1 -> 0.021834061 | J14: ='3610010601- DATA'!J14/'3610010601- DATA'!F14-1 -> 0.018458198 | K14: ='3610010601- DATA'!K14/'3610010601- DATA'!G14-1 -> 0.014023732 | L14: ='3610010601- DATA'!L14/'3610010601- DATA'!H14-1 -> 0.010741139 | M14: ='3610010601- DATA'!M14/'3610010601- DATA'!I14-1 -> 0.0085470085 | ... BD14: ='3610010601- DATA'!BD14/'3610010601- DATA'!AZ14-1 -> 0.034330986
A15: Goods | F15: ='3610010601- DATA'!F15/'3610010601- DATA'!B15-1 -> 0.019396552 | G15: ='3610010601- DATA'!G15/'3610010601- DATA'!C15-1 -> 0.029126214 | H15: ='3610010601- DATA'!H15/'3610010601- DATA'!D15-1 -> 0.029094828 | I15: ='3610010601- DATA'!I15/'3610010601- DATA'!E15-1 -> 0.023479189 | J15: ='3610010601- DATA'!J15/'3610010601- DATA'!F15-1 -> 0.019027484 | K15: ='3610010601- DATA'!K15/'3610010601- DATA'!G15-1 -> 0.0083857442 | L15: ='3610010601- DATA'!L15/'3610010601- DATA'!H15-1 -> 0.0083769634 | M15: ='3610010601- DATA'!M15/'3610010601- DATA'!I15-1 -> 0.0062565172 | ... BD15: ='3610010601- DATA'!BD15/'3610010601- DATA'!AZ15-1 -> 0.02994012
A16: Durable goods | F16: ='3610010601- DATA'!F16/'3610010601- DATA'!B16-1 -> 0.0063424947 | G16: ='3610010601- DATA'!G16/'3610010601- DATA'!C16-1 -> -0.0073375262 | H16: ='3610010601- DATA'!H16/'3610010601- DATA'!D16-1 -> -0.007360673 | I16: ='3610010601- DATA'!I16/'3610010601- DATA'!E16-1 -> -0.0042194093 | J16: ='3610010601- DATA'!J16/'3610010601- DATA'!F16-1 -> -0.0042016807 | K16: ='3610010601- DATA'!K16/'3610010601- DATA'!G16-1 -> 0.0010559662 | L16: ='3610010601- DATA'!L16/'3610010601- DATA'!H16-1 -> 0.0042372881 | M16: ='3610010601- DATA'!M16/'3610010601- DATA'!I16-1 -> 0.0074152542 | ... BD16: ='3610010601- DATA'!BD16/'3610010601- DATA'!AZ16-1 -> 0.010362694
A17: Semi-durable goods | F17: ='3610010601- DATA'!F17/'3610010601- DATA'!B17-1 -> -0.01888668 | G17: ='3610010601- DATA'!G17/'3610010601- DATA'!C17-1 -> -0.0089552239 | H17: ='3610010601- DATA'!H17/'3610010601- DATA'!D17-1 -> 0.0040444894 | I17: ='3610010601- DATA'!I17/'3610010601- DATA'!E17-1 -> -0.0070493454 | J17: ='3610010601- DATA'!J17/'3610010601- DATA'!F17-1 -> 0.0020263425 | K17: ='3610010601- DATA'!K17/'3610010601- DATA'!G17-1 -> -0.0060240964 | L17: ='3610010601- DATA'!L17/'3610010601- DATA'!H17-1 -> -0.012084592 | M17: ='3610010601- DATA'!M17/'3610010601- DATA'!I17-1 -> -0.0030425963 | ... BD17: ='3610010601- DATA'!BD17/'3610010601- DATA'!AZ17-1 -> 0.013513514
A18: Non-durable goods | F18: ='3610010601- DATA'!F18/'3610010601- DATA'!B18-1 -> 0.036707453 | G18: ='3610010601- DATA'!G18/'3610010601- DATA'!C18-1 -> 0.061590146 | H18: ='3610010601- DATA'!H18/'3610010601- DATA'!D18-1 -> 0.054323725 | I18: ='3610010601- DATA'!I18/'3610010601- DATA'!E18-1 -> 0.044662309 | J18: ='3610010601- DATA'!J18/'3610010601- DATA'!F18-1 -> 0.036480687 | K18: ='3610010601- DATA'!K18/'3610010601- DATA'!G18-1 -> 0.014767932 | L18: ='3610010601- DATA'!L18/'3610010601- DATA'!H18-1 -> 0.015772871 | M18: ='3610010601- DATA'!M18/'3610010601- DATA'!I18-1 -> 0.0083420229 | ... BD18: ='3610010601- DATA'!BD18/'3610010601- DATA'!AZ18-1 -> 0.043513957
A19: Services | F19: ='3610010601- DATA'!F19/'3610010601- DATA'!B19-1 -> 0.014623172 | G19: ='3610010601- DATA'!G19/'3610010601- DATA'!C19-1 -> 0.017977528 | H19: ='3610010601- DATA'!H19/'3610010601- DATA'!D19-1 -> 0.016741071 | I19: ='3610010601- DATA'!I19/'3610010601- DATA'!E19-1 -> 0.021134594 | J19: ='3610010601- DATA'!J19/'3610010601- DATA'!F19-1 -> 0.016629712 | K19: ='3610010601- DATA'!K19/'3610010601- DATA'!G19-1 -> 0.018763797 | L19: ='3610010601- DATA'!L19/'3610010601- DATA'!H19-1 -> 0.014270033 | M19: ='3610010601- DATA'!M19/'3610010601- DATA'!I19-1 -> 0.010893246 | ... BD19: ='3610010601- DATA'!BD19/'3610010601- DATA'!AZ19-1 -> 0.038843722
A20: Household final consumption expenditure, excluding food and energy | F20: ='3610010601- DATA'!F20/'3610010601- DATA'!B20-1 -> 0.0098901099 | G20: ='3610010601- DATA'!G20/'3610010601- DATA'!C20-1 -> 0.010964912 | H20: ='3610010601- DATA'!H20/'3610010601- DATA'!D20-1 -> 0.013129103 | I20: ='3610010601- DATA'!I20/'3610010601- DATA'!E20-1 -> 0.015283843 | J20: ='3610010601- DATA'!J20/'3610010601- DATA'!F20-1 -> 0.011969532 | K20: ='3610010601- DATA'!K20/'3610010601- DATA'!G20-1 -> 0.013015184 | L20: ='3610010601- DATA'!L20/'3610010601- DATA'!H20-1 -> 0.0097192225 | M20: ='3610010601- DATA'!M20/'3610010601- DATA'!I20-1 -> 0.0075268817 | ... BD20: ='3610010601- DATA'!BD20/'3610010601- DATA'!AZ20-1 -> 0.03420342
A21: Non-profit institutions serving households' final consumption expenditure | F21: ='3610010601- DATA'!F21/'3610010601- DATA'!B21-1 -> 0.012276786 | G21: ='3610010601- DATA'!G21/'3610010601- DATA'!C21-1 -> 0.018847007 | H21: ='3610010601- DATA'!H21/'3610010601- DATA'!D21-1 -> 0.0065717415 | I21: ='3610010601- DATA'!I21/'3610010601- DATA'!E21-1 -> 0.018681319 | J21: ='3610010601- DATA'!J21/'3610010601- DATA'!F21-1 -> 0.031973539 | K21: ='3610010601- DATA'!K21/'3610010601- DATA'!G21-1 -> 0.011969532 | L21: ='3610010601- DATA'!L21/'3610010601- DATA'!H21-1 -> 0.014145811 | M21: ='3610010601- DATA'!M21/'3610010601- DATA'!I21-1 -> 0.011866235 | ... BD21: ='3610010601- DATA'!BD21/'3610010601- DATA'!AZ21-1 -> 0.010781671
A22: General governments final consumption expenditure | F22: ='3610010601- DATA'!F22/'3610010601- DATA'!B22-1 -> 0.031468531 | G22: ='3610010601- DATA'!G22/'3610010601- DATA'!C22-1 -> 0.034802784 | H22: ='3610010601- DATA'!H22/'3610010601- DATA'!D22-1 -> 0.039170507 | I22: ='3610010601- DATA'!I22/'3610010601- DATA'!E22-1 -> 0.034324943 | J22: ='3610010601- DATA'!J22/'3610010601- DATA'!F22-1 -> 0.020338983 | K22: ='3610010601- DATA'!K22/'3610010601- DATA'!G22-1 -> 0.019058296 | L22: ='3610010601- DATA'!L22/'3610010601- DATA'!H22-1 -> 0.015521064 | M22: ='3610010601- DATA'!M22/'3610010601- DATA'!I22-1 -> 0.01880531 | ... BD22: ='3610010601- DATA'!BD22/'3610010601- DATA'!AZ22-1 -> 0.044619423
A23: Gross fixed capital formation | F23: ='3610010601- DATA'!F23/'3610010601- DATA'!B23-1 -> 0.015312132 | G23: ='3610010601- DATA'!G23/'3610010601- DATA'!C23-1 -> 0.016374269 | H23: ='3610010601- DATA'!H23/'3610010601- DATA'!D23-1 -> 0.01981352 | I23: ='3610010601- DATA'!I23/'3610010601- DATA'!E23-1 -> 0.027939464 | J23: ='3610010601- DATA'!J23/'3610010601- DATA'!F23-1 -> 0.031322506 | K23: ='3610010601- DATA'!K23/'3610010601- DATA'!G23-1 -> 0.026467204 | L23: ='3610010601- DATA'!L23/'3610010601- DATA'!H23-1 -> 0.021714286 | M23: ='3610010601- DATA'!M23/'3610010601- DATA'!I23-1 -> 0.013590034 | ... BD23: ='3610010601- DATA'!BD23/'3610010601- DATA'!AZ23-1 -> 0.027216174
A24: Business gross fixed capital formation | F24: ='3610010601- DATA'!F24/'3610010601- DATA'!B24-1 -> 0.012941176 | G24: ='3610010601- DATA'!G24/'3610010601- DATA'!C24-1 -> 0.012850467 | H24: ='3610010601- DATA'!H24/'3610010601- DATA'!D24-1 -> 0.01627907 | I24: ='3610010601- DATA'!I24/'3610010601- DATA'!E24-1 -> 0.026806527 | J24: ='3610010601- DATA'!J24/'3610010601- DATA'!F24-1 -> 0.030197445 | K24: ='3610010601- DATA'!K24/'3610010601- DATA'!G24-1 -> 0.027681661 | L24: ='3610010601- DATA'!L24/'3610010601- DATA'!H24-1 -> 0.020594966 | M24: ='3610010601- DATA'!M24/'3610010601- DATA'!I24-1 -> 0.013620885 | ... BD24: ='3610010601- DATA'!BD24/'3610010601- DATA'!AZ24-1 -> 0.029141104
... A31: General governments gross fixed capital formation | F31: ='3610010601- DATA'!F31/'3610010601- DATA'!B31-1 -> 0.024793388 | G31: ='3610010601- DATA'!G31/'3610010601- DATA'!C31-1 -> 0.026932084 | H31: ='3610010601- DATA'!H31/'3610010601- DATA'!D31-1 -> 0.031615925 | I31: ='3610010601- DATA'!I31/'3610010601- DATA'!E31-1 -> 0.034722222 | J31: ='3610010601- DATA'!J31/'3610010601- DATA'!F31-1 -> 0.038018433 | K31: ='3610010601- DATA'!K31/'3610010601- DATA'!G31-1 -> 0.023945268 | L31: ='3610010601- DATA'!L31/'3610010601- DATA'!H31-1 -> 0.024971623 | M31: ='3610010601- DATA'!M31/'3610010601- DATA'!I31-1 -> 0.013422819 | ... BD31: ='3610010601- DATA'!BD31/'3610010601- DATA'!AZ31-1 -> 0.02
A32: Investment in inventories | F32: … | G32: … | H32: … | I32: … | J32: … | K32: … | L32: … | M32: … | N32: … | O32: … | P32: … | Q32: … | R32: … | S32: … | T32: … | U32: … | V32: … | W32: … | X32: … | Y32: … | Z32: … | AA32: … | AB32: … | AC32: … | AD32: … | AE32: … | AF32: … | AG32: … | AH32: … | AI32: … | AJ32: … | AK32: … | AL32: … | AM32: … | AN32: … | AO32: … | AP32: … | AQ32: … | AR32: … | AS32: … | AT32: … | AU32: … | AV32: … | AW32: … | AX32: … | AY32: … | AZ32: … | BA32: … | BB32: … | BC32: … | BD32: …
A33: Exports of goods and services | F33: ='3610010601- DATA'!F33/'3610010601- DATA'!B33-1 -> 0.040838852 | G33: ='3610010601- DATA'!G33/'3610010601- DATA'!C33-1 -> 0.081930415 | H33: ='3610010601- DATA'!H33/'3610010601- DATA'!D33-1 -> 0.074860335 | I33: ='3610010601- DATA'!I33/'3610010601- DATA'!E33-1 -> 0.076419214 | J33: ='3610010601- DATA'!J33/'3610010601- DATA'!F33-1 -> 0.024390244 | K33: ='3610010601- DATA'!K33/'3610010601- DATA'!G33-1 -> -0.012448133 | L33: ='3610010601- DATA'!L33/'3610010601- DATA'!H33-1 -> -0.017671518 | M33: ='3610010601- DATA'!M33/'3610010601- DATA'!I33-1 -> -0.02535497 | ... BD33: ='3610010601- DATA'!BD33/'3610010601- DATA'!AZ33-1 -> -0.028138528
A34: Exports of goods | F34: ='3610010601- DATA'!F34/'3610010601- DATA'!B34-1 -> 0.042810099 | G34: ='3610010601- DATA'!G34/'3610010601- DATA'!C34-1 -> 0.093049327 | H34: ='3610010601- DATA'!H34/'3610010601- DATA'!D34-1 -> 0.082497213 | I34: ='3610010601- DATA'!I34/'3610010601- DATA'!E34-1 -> 0.088235294 | J34: ='3610010601- DATA'!J34/'3610010601- DATA'!F34-1 -> 0.025263158 | K34: ='3610010601- DATA'!K34/'3610010601- DATA'!G34-1 -> -0.019487179 | L34: ='3610010601- DATA'!L34/'3610010601- DATA'!H34-1 -> -0.026776519 | M34: ='3610010601- DATA'!M34/'3610010601- DATA'!I34-1 -> -0.034034034 | ... BD34: ='3610010601- DATA'!BD34/'3610010601- DATA'!AZ34-1 -> -0.043205575
A35: Exports of services | F35: ='3610010601- DATA'!F35/'3610010601- DATA'!B35-1 -> 0.027272727 | G35: ='3610010601- DATA'!G35/'3610010601- DATA'!C35-1 -> 0.031710079 | H35: ='3610010601- DATA'!H35/'3610010601- DATA'!D35-1 -> 0.031602709 | I35: ='3610010601- DATA'!I35/'3610010601- DATA'!E35-1 -> 0.021134594 | J35: ='3610010601- DATA'!J35/'3610010601- DATA'!F35-1 -> 0.021017699 | K35: ='3610010601- DATA'!K35/'3610010601- DATA'!G35-1 -> 0.017563117 | L35: ='3610010601- DATA'!L35/'3610010601- DATA'!H35-1 -> 0.025164114 | M35: ='3610010601- DATA'!M35/'3610010601- DATA'!I35-1 -> 0.023965142 | ... BD35: ='3610010601- DATA'!BD35/'3610010601- DATA'!AZ35-1 -> 0.035294118
A36: Imports of goods and services | F36: ='3610010601- DATA'!F36/'3610010601- DATA'!B36-1 -> 0.017381228 | G36: ='3610010601- DATA'!G36/'3610010601- DATA'!C36-1 -> 0.034802784 | H36: ='3610010601- DATA'!H36/'3610010601- DATA'!D36-1 -> 0.029680365 | I36: ='3610010601- DATA'!I36/'3610010601- DATA'!E36-1 -> 0.053775744 | J36: ='3610010601- DATA'!J36/'3610010601- DATA'!F36-1 -> 0.031890661 | K36: ='3610010601- DATA'!K36/'3610010601- DATA'!G36-1 -> 0.024663677 | L36: ='3610010601- DATA'!L36/'3610010601- DATA'!H36-1 -> -0.0033259424 | M36: ='3610010601- DATA'!M36/'3610010601- DATA'!I36-1 -> -0.024972856 | ... BD36: ='3610010601- DATA'!BD36/'3610010601- DATA'!AZ36-1 -> 0.010673235
A37: Imports of goods | F37: ='3610010601- DATA'!F37/'3610010601- DATA'!B37-1 -> 0.02433372 | G37: ='3610010601- DATA'!G37/'3610010601- DATA'!C37-1 -> 0.040556199 | H37: ='3610010601- DATA'!H37/'3610010601- DATA'!D37-1 -> 0.037714286 | I37: ='3610010601- DATA'!I37/'3610010601- DATA'!E37-1 -> 0.061643836 | J37: ='3610010601- DATA'!J37/'3610010601- DATA'!F37-1 -> 0.037330317 | K37: ='3610010601- DATA'!K37/'3610010601- DATA'!G37-1 -> 0.027839644 | L37: ='3610010601- DATA'!L37/'3610010601- DATA'!H37-1 -> -0.0022026432 | M37: ='3610010601- DATA'!M37/'3610010601- DATA'!I37-1 -> -0.029032258 | ... BD37: ='3610010601- DATA'!BD37/'3610010601- DATA'!AZ37-1 -> 0.0057424118
A38: Imports of services | F38: ='3610010601- DATA'!F38/'3610010601- DATA'!B38-1 -> -0.0069686411 | G38: ='3610010601- DATA'!G38/'3610010601- DATA'!C38-1 -> 0.0093023256 | H38: ='3610010601- DATA'!H38/'3610010601- DATA'!D38-1 -> 0 | I38: ='3610010601- DATA'!I38/'3610010601- DATA'!E38-1 -> 0.017301038 | J38: ='3610010601- DATA'!J38/'3610010601- DATA'!F38-1 -> 0.0081871345 | K38: ='3610010601- DATA'!K38/'3610010601- DATA'!G38-1 -> 0.013824885 | L38: ='3610010601- DATA'!L38/'3610010601- DATA'!H38-1 -> -0.0068259386 | M38: ='3610010601- DATA'!M38/'3610010601- DATA'!I38-1 -> -0.0079365079 | ... BD38: ='3610010601- DATA'!BD38/'3610010601- DATA'!AZ38-1 -> 0.027385892
A39: Statistical discrepancy | F39: … | G39: … | H39: … | I39: … | J39: … | K39: … | L39: … | M39: … | N39: … | O39: … | P39: … | Q39: … | R39: … | S39: … | T39: … | U39: … | V39: … | W39: … | X39: … | Y39: … | Z39: … | AA39: … | AB39: … | AC39: … | AD39: … | AE39: … | AF39: … | AG39: … | AH39: … | AI39: … | AJ39: … | AK39: … | AL39: … | AM39: … | AN39: … | AO39: … | AP39: … | AQ39: … | AR39: … | AS39: … | AT39: … | AU39: … | AV39: … | AW39: … | AX39: … | AY39: … | AZ39: … | BA39: … | BB39: … | BC39: … | BD39: …
A40: Gross domestic product at market prices | F40: ='3610010601- DATA'!F40/'3610010601- DATA'!B40-1 -> 0.025612472 | G40: ='3610010601- DATA'!G40/'3610010601- DATA'!C40-1 -> 0.035634744 | H40: ='3610010601- DATA'!H40/'3610010601- DATA'!D40-1 -> 0.035595106 | I40: ='3610010601- DATA'!I40/'3610010601- DATA'!E40-1 -> 0.033039648 | J40: ='3610010601- DATA'!J40/'3610010601- DATA'!F40-1 -> 0.019543974 | K40: ='3610010601- DATA'!K40/'3610010601- DATA'!G40-1 -> 0.0086021505 | L40: ='3610010601- DATA'!L40/'3610010601- DATA'!H40-1 -> 0.011815252 | M40: ='3610010601- DATA'!M40/'3610010601- DATA'!I40-1 -> 0.0095948827 | ... BD40: ='3610010601- DATA'!BD40/'3610010601- DATA'!AZ40-1 -> 0.015612161
A41: Final domestic demand IPI | F41: ='3610010601- DATA'!F41/'3610010601- DATA'!B41-1 -> 0.019274376 | G41: ='3610010601- DATA'!G41/'3610010601- DATA'!C41-1 -> 0.023728814 | H41: ='3610010601- DATA'!H41/'3610010601- DATA'!D41-1 -> 0.024746907 | I41: ='3610010601- DATA'!I41/'3610010601- DATA'!E41-1 -> 0.0268757 | J41: ='3610010601- DATA'!J41/'3610010601- DATA'!F41-1 -> 0.022246941 | K41: ='3610010601- DATA'!K41/'3610010601- DATA'!G41-1 -> 0.017660044 | L41: ='3610010601- DATA'!L41/'3610010601- DATA'!H41-1 -> 0.014270033 | M41: ='3610010601- DATA'!M41/'3610010601- DATA'!I41-1 -> 0.010905125 | ... BD41: ='3610010601- DATA'!BD41/'3610010601- DATA'!AZ41-1 -> 0.034158839
A43: Symbol legend:
A44: .. | B44: not available for a specific reference period
A49: How to cite: Statistics Canada. Table 36-10-0106-01 Gross domestic product price indexes, quarterly
A50: https://www150.statcan.gc.ca/t1/tbl1/en/tv.action?pid=3610010601

Sheet CPI Qua
A1: Consumer Price Index, monthly, not seasonally adjusted 1 2 3
A2: Frequency: Quarterly calculated as 3-month avaerage
A3: Table: 18-10-0004-01 (formerly CANSIM 326-0020)
A4: Release date: 2024-02-20
A5: Geography: Canada, Province or territory, Census subdivision, Census metropolitan area, Census metropolitan area part
B7: 2002=100
A9: Geography | B9: Canada
B11: Q1-10 | C11: Q2-10 | D11: Q3-10 | E11: Q4-10 | F11: Q1-11 | G11: Q2-11 | H11: Q3-11 | I11: Q4-11 | J11: Q1-12 | K11: Q2-12 | L11: Q3-12 | M11: Q4-12 | N11: Q1-13 | O11: Q2-13 | P11: Q3-13 | Q11: Q4-13 | R11: Q1-14 | S11: Q2-14 | T11: Q3-14 | U11: Q4-14 | V11: Q1-15 | W11: Q2-15 | X11: Q3-15 | Y11: Q4-15 | Z11: Q1-16 | AA11: Q2-16 | AB11: Q3-16 | AC11: Q4-16 | AD11: Q1-17 | AE11: Q2-17 | AF11: Q3-17 | AG11: Q4-17 | AH11: Q1-18 | AI11: Q2-18 | AJ11: Q3-18 | AK11: Q4-18 | AL11: Q1-19 | AM11: Q2-19 | AN11: Q3-19 | AO11: Q4-19 | AP11: Q1-20 | AQ11: Q2-20 | AR11: Q3-20 | AS11: Q4-20 | AT11: Q1-21 | AU11: Q2-21 | AV11: Q3-21 | AW11: Q4-21 | AX11: Q1-22 | AY11: Q2-22 | AZ11: Q3-22 | BA11: Q4-22 | BB11: Q1-23 | BC11: Q2-23 | BD11: Q3-23 | BE11: Q4-23 | BF11: Q1-24 | BG11: Q2-24 | BH11: Q3-24 | BI11: Q4-24 | BJ11: Q1-25 | BK11: Q2-25
A12: All-items | B12: 115.43333 | C12: 116.16667 | D12: 116.8 | E12: 117.46667 | F12: 118.43333 | G12: 120.06667 | H12: 120.3 | I12: 120.63333 | J12: 121.2 | K12: 121.96667 | L12: 121.76667 | M12: 121.76667 | N12: 122.3 | O12: 122.9 | P12: 123.16667 | Q12: 122.9 | R12: 124 | S12: 125.63333 | T12: 125.73333 | U12: 125.26667 | V12: 125.33333 | W12: 126.76667 | X12: 127.23333 | Y12: 126.93333 | Z12: 127.26667 | AA12: 128.73333 | AB12: 128.8 | AC12: 128.7 | AD12: 129.7 | AE12: 130.43333 | AF12: 130.56667 | AG12: 131 | AH12: 132.36667 | AI12: 133.43333 | AJ12: 134.06667 | AK12: 133.66667 | AL12: 134.5 | AM12: 136.3 | AN12: 136.66667 | AO12: 136.46667 | AP12: 136.93333 | AQ12: 136.33333 | AR12: 137.03333 | AS12: 137.53333 | AT12: 138.9 | AU12: 140.9 | AV12: 142.6 | AW12: 144.03333 | AX12: 147 | AY12: 151.53333 | AZ12: 152.8 | BA12: 153.63333 | BB12: 154.56667 | BC12: 156.86667 | BD12: 158.43333 | BE12: 158.56667
A13: Food 5 | B13: 122.7 | C13: 122.9 | D13: 123.36667 | E13: 123.3 | F13: 125.8 | G13: 127.63333 | H13: 128.7 | I13: 128.83333 | J13: 130.2 | K13: 130.63333 | L13: 131.23333 | M13: 131.03333 | N13: 132.3 | O13: 132.4 | P13: 132.53333 | Q13: 132.33333 | R13: 133.9 | S13: 135.56667 | T13: 135.96667 | U13: 136.56667 | V13: 139.36667 | W13: 140.4 | X13: 140.66667 | Y13: 141.66667 | Z13: 144.7 | AA13: 143.3 | AB13: 141.96667 | AC13: 140.36667 | AD13: 141.66667 | AE13: 142.96667 | AF13: 143.36667 | AG13: 142.66667 | AH13: 144.53333 | AI13: 145 | AJ13: 145.63333 | AK13: 146.06667 | AL13: 149.13333 | AM13: 149.8 | AN13: 150.96667 | AO13: 150.96667 | AP13: 153.06667 | AQ13: 154.36667 | AR13: 153.8 | AS13: 153.6 | AT13: 155.36667 | AU13: 156.26667 | AV13: 158.03333 | AW13: 160.5 | AX13: 165.8 | AY13: 170 | AZ13: 173.46667 | BA13: 176.8 | BB13: 181.83333 | BC13: 184.16667 | BD13: 185.33333 | BE13: 186
A14: Shelter 6 | B14: 121.76667 | C14: 122.9 | D14: 124.06667 | E14: 124.53333 | F14: 124.53333 | G14: 125.26667 | H14: 125.93333 | I14: 126.53333 | J14: 126.86667 | K14: 126.76667 | L14: 127.26667 | M14: 127.53333 | N14: 127.9 | O14: 128.33333 | P14: 128.86667 | Q14: 129.63333 | R14: 130.86667 | S14: 132.4 | T14: 132.5 | U14: 132.86667 | V14: 133.16667 | W14: 133.26667 | X14: 133.86667 | Y14: 134.4 | Z14: 134.7 | AA14: 135.2 | AB14: 136.13333 | AC14: 137.13333 | AD14: 137.7 | AE14: 137.8 | AF14: 137.93333 | AG14: 138.9 | AH14: 139.9 | AI14: 140.4 | AJ14: 141.23333 | AK14: 142.2 | AL14: 143.4 | AM14: 144.1 | AN14: 144.56667 | AO14: 145.96667 | AP14: 146.53333 | AQ14: 146 | AR14: 146.83333 | AS14: 148.56667 | AT14: 149.06667 | AU14: 151.73333 | AV14: 153.93333 | AW14: 156.03333 | AX14: 158.8 | AY14: 162.83333 | AZ14: 164.4 | BA14: 167.06667 | BB14: 168.4 | BC14: 170.63333 | BD14: 173.8 | BE14: 177.06667
A15: Household operations, furnishings and equipment | B15: 108.16667 | C15: 108.56667 | D15: 109.2 | E15: 109.36667 | F15: 110.03333 | G15: 110.3 | H15: 111.16667 | I15: 111.93333 | J15: 112.56667 | K15: 112.83333 | L15: 112.96667 | M15: 113.46667 | N15: 114.16667 | O15: 114.16667 | P15: 114.36667 | Q15: 114.73333 | R15: 115.23333 | S15: 115.9 | T15: 117.13333 | U15: 118.03333 | V15: 118.76667 | W15: 119.8 | X15: 120.33333 | Y15: 120 | Z15: 120.8 | AA15: 122.03333 | AB15: 122.13333 | AC15: 121.66667 | AD15: 121.5 | AE15: 122.43333 | AF15: 121.83333 | AG15: 121.96667 | AH15: 122.9 | AI15: 123.1 | AJ15: 123 | AK15: 123.73333 | AL15: 123.46667 | AM15: 123.93333 | AN15: 123.53333 | AO15: 123.43333 | AP15: 123.2 | AQ15: 123.83333 | AR15: 124.06667 | AS15: 124.06667 | AT15: 124.03333 | AU15: 124.73333 | AV15: 125.76667 | AW15: 126.3 | AX15: 127.8 | AY15: 131.03333 | AZ15: 132.26667 | BA15: 132.56667 | BB15: 132.5 | BC15: 132.96667 | BD15: 131.76667 | BE15: 130.63333
A16: Clothing and footwear | B16: 91.633333 | C16: 92.166667 | D16: 90.566667 | E16: 91.933333 | F16: 90.566667 | G16: 92.4 | H16: 91.766667 | I16: 92.766667 | J16: 92 | K16: 93.066667 | L16: 90.633333 | M16: 92.133333 | N16: 91.533333 | O16: 93.266667 | P16: 91.9 | Q16: 91.833333 | R16: 91.4 | S16: 94.066667 | T16: 93.166667 | U16: 94.233333 | V16: 93.6 | W16: 94.733333 | X16: 94.566667 | Y16: 95.366667 | Z16: 92.966667 | AA16: 95.366667 | AB16: 94.333333 | AC16: 94.966667 | AD16: 93.033333 | AE16: 93.733333 | AF16: 93.433333 | AG16: 94.566667 | AH16: 93.333333 | AI16: 95.266667 | AJ16: 94.233333 | AK16: 95.233333 | AL16: 94.466667 | AM16: 96.266667 | AN16: 95.733333 | AO16: 97.733333 | AP16: 97.4 | AQ16: 92.366667 | AR16: 93.366667 | AS16: 94.566667 | AT16: 92.766667 | AU16: 94.466667 | AV16: 93.666667 | AW16: 95.333333 | AX16: 93.9 | AY16: 96.066667 | AZ16: 95 | BA16: 96.6 | BB16: 95.4 | BC16: 97.2 | BD16: 96.166667 | BE16: 96.933333
A17: Transportation | B17: 117 | C17: 117.6 | D17: 117.2 | E17: 120.16667 | F17: 123.4 | G17: 127.2 | H17: 125.53333 | I17: 126.43333 | J17: 128.23333 | K17: 129.6 | L17: 127.4 | M17: 127.23333 | N17: 128.83333 | O17: 129.33333 | P17: 129.43333 | Q17: 128.33333 | R17: 130.56667 | S17: 132.66667 | T17: 130.76667 | U17: 127.5 | V17: 124.43333 | W17: 128.06667 | X17: 127.46667 | Y17: 125.9 | Z17: 124.7 | AA17: 129.4 | AB17: 128.46667 | AC17: 129.03333 | AD17: 132 | AE17: 132.43333 | AF17: 132.1 | AG17: 134.96667 | AH17: 137.63333 | AI17: 139.9 | AJ17: 140.56667 | AK17: 138.13333 | AL17: 138.36667 | AM17: 143.23333 | AN17: 142.6 | AO17: 141.96667 | AP17: 142.1 | AQ17: 139.73333 | AR17: 141.56667 | AS17: 141.56667 | AT17: 146.93333 | AU17: 150.2 | AV17: 153.06667 | AW17: 155.23333 | AX17: 160.76667 | AY17: 171.56667 | AZ17: 170.1 | BA17: 167.63333 | BB17: 165.4 | BC17: 168.93333 | BD17: 172.63333 | BE17: 169.16667
A18: Gasoline | B18: 144.9 | C18: 145.9 | D18: 147.4 | E18: 154.73333 | F18: 167.9 | G18: 186.93333 | H18: 181.3 | I18: 174.86667 | J18: 180.3 | K18: 186.4 | L18: 184.6 | M18: 178.06667 | N18: 181.4 | O18: 184.36667 | P18: 189.4 | Q18: 178.3 | R18: 184.13333 | S18: 195.56667 | T18: 190.33333 | U18: 165.26667 | V18: 142.6 | W18: 161.4 | X18: 162.83333 | Y18: 146.76667 | Z18: 130.33333 | AA18: 149.8 | AB18: 146.93333 | AC18: 149.8 | AD18: 155.8 | AE18: 160.06667 | AF18: 160.33333 | AG18: 168.76667 | AH18: 175.1 | AI18: 192.76667 | AJ18: 190.63333 | AK18: 167.3 | AL18: 157.36667 | AM18: 183.46667 | AN18: 173.43333 | AO18: 167.53333 | AP18: 154.5 | AQ18: 131.03333 | AR18: 152.1 | AS18: 149.16667 | AT18: 171.16667 | AU18: 189.56667 | AV18: 200.9 | AW18: 208.03333 | AX18: 230.63333 | AY18: 277.66667 | AZ18: 248.4 | BA18: 232.16667 | BB18: 217.46667 | BC18: 232.4 | BD18: 243.1 | BE18: 220.5
A19: Health and personal care | B19: 113.66667 | C19: 114.7 | D19: 116.03333 | E19: 115.96667 | F19: 116.06667 | G19: 117.13333 | H19: 117.23333 | I19: 117.8 | J19: 118.26667 | K19: 118.86667 | L19: 118.93333 | M19: 118.6 | N19: 118.46667 | O19: 118.43333 | P19: 118.16667 | Q19: 118 | R19: 118.26667 | S19: 119.03333 | T19: 119.13333 | U19: 119.43333 | V19: 119.86667 | W19: 120.43333 | X19: 120.6 | Y19: 121.1 | Z19: 121.46667 | AA19: 122.23333 | AB19: 122.36667 | AC19: 122.76667 | AD19: 123.4 | AE19: 124.23333 | AF19: 124.73333 | AG19: 124.63333 | AH19: 125.66667 | AI19: 126.13333 | AJ19: 126.3 | AK19: 125.66667 | AL19: 126.3 | AM19: 127.36667 | AN19: 127.86667 | AO19: 127.93333 | AP19: 128.66667 | AQ19: 128.46667 | AR19: 129.4 | AS19: 130.26667 | AT19: 130.43333 | AU19: 132.5 | AV19: 133.46667 | AW19: 133.8 | AX19: 134.53333 | AY19: 137.33333 | AZ19: 139.1 | BA19: 141.13333 | BB19: 143.03333 | BC19: 146.03333 | BD19: 147.06667 | BE19: 147.13333
A20: Recreation, education and reading | B20: 102.56667 | C20: 103.56667 | D20: 105.23333 | E20: 104.46667 | F20: 103.8 | G20: 105.73333 | H20: 106.7 | I20: 104.96667 | J20: 103.73333 | K20: 106.26667 | L20: 107.5 | M20: 106 | N20: 104.53333 | O20: 106.1 | P20: 107.83333 | Q20: 106.13333 | R20: 105.86667 | S20: 107.4 | T20: 109.3 | U20: 107.2 | V20: 107.4 | W20: 109.4 | X20: 111.73333 | Y20: 109.16667 | Z20: 109.46667 | AA20: 111.33333 | AB20: 113.33333 | AC20: 111.23333 | AD20: 113.13333 | AE20: 114.43333 | AF20: 115.76667 | AG20: 112.76667 | AH20: 114.1 | AI20: 115.26667 | AJ20: 117.46667 | AK20: 114.43333 | AL20: 115.03333 | AM20: 117.43333 | AN20: 119.63333 | AO20: 115.1 | AP20: 115 | AQ20: 115.6 | AR20: 116.33333 | AS20: 115.73333 | AT20: 116.26667 | AU20: 117.46667 | AV20: 119.1 | AW20: 118.76667 | AX20: 121.06667 | AY20: 123.6 | AZ20: 125.9 | BA20: 123.36667 | BB20: 123.8 | BC20: 126.66667 | BD20: 128.36667 | BE20: 126.83333
A21: Alcoholic beverages, tobacco products and recreational cannabis | B21: 131.33333 | C21: 132.03333 | D21: 134.43333 | E21: 134.56667 | F21: 135 | G21: 135.43333 | H21: 136.03333 | I21: 135.8 | J21: 136.8 | K21: 137.63333 | L21: 137.7 | M21: 138.13333 | N21: 139.36667 | O21: 140.7 | P21: 140.6 | Q21: 141.1 | R21: 143.03333 | S21: 146 | T21: 148 | U21: 149.23333 | V21: 150.3 | W21: 151.8 | X21: 152.56667 | Y21: 153.4 | Z21: 155.3 | AA21: 156.66667 | AB21: 157.36667 | AC21: 157.96667 | AD21: 159.2 | AE21: 160.66667 | AF21: 162.06667 | AG21: 162.36667 | AH21: 164.43333 | AI21: 168.3 | AJ21: 169.4 | AK21: 169.63333 | AL21: 170.8 | AM21: 171.4 | AN21: 171 | AO21: 171.1 | AP21: 171.43333 | AQ21: 172.13333 | AR21: 171.96667 | AS21: 172 | AT21: 173.1 | AU21: 175.03333 | AV21: 175.66667 | AW21: 176.16667 | AX21: 178.66667 | AY21: 180.3 | AZ21: 182.13333 | BA21: 184.06667 | BB21: 187.6 | BC21: 190.06667 | BD21: 191.7 | BE21: 192.43333
A22: All-items excluding food and energy 7 | B22: 112.03333 | C22: 112.66667 | D22: 113.13333 | E22: 113.76667 | F22: 113.83333 | G22: 114.56667 | H22: 114.83333 | I22: 115.43333 | J22: 115.63333 | K22: 116.5 | L22: 116.06667 | M22: 116.46667 | N22: 116.66667 | O22: 117.23333 | P22: 117.23333 | Q22: 117.46667 | R22: 118.03333 | S22: 119 | T22: 119.33333 | U22: 119.76667 | V22: 120.26667 | W22: 121.2 | X22: 121.56667 | Y22: 121.8 | Z22: 122.33333 | AA22: 123.66667 | AB22: 123.96667 | AC22: 124 | AD22: 124.76667 | AE22: 125.43333 | AF22: 125.66667 | AG22: 126 | AH22: 126.96667 | AI22: 127.63333 | AJ22: 128.36667 | AK22: 128.56667 | AL22: 129.4 | AM22: 130.53333 | AN22: 131.13333 | AO22: 131.06667 | AP22: 131.76667 | AQ22: 131.8 | AR22: 131.9 | AS22: 132.46667 | AT22: 133.1 | AU22: 134.6 | AV22: 135.9 | AW22: 136.76667 | AX22: 138.46667 | AY22: 141.4 | AZ22: 143.26667 | BA22: 144.1 | BB22: 145.06667 | BC22: 147 | BD22: 148.16667 | BE22: 149.06667
A23: All-items excluding energy 7 | B23: 113.96667 | C23: 114.53333 | D23: 115 | E23: 115.5 | F23: 116.03333 | G23: 116.93333 | H23: 117.33333 | I23: 117.86667 | J23: 118.3 | K23: 119.06667 | L23: 118.8 | M23: 119.06667 | N23: 119.46667 | O23: 119.96667 | P23: 120 | Q23: 120.16667 | R23: 120.86667 | S23: 121.96667 | T23: 122.36667 | U23: 122.76667 | V23: 123.63333 | W23: 124.63333 | X23: 124.96667 | Y23: 125.3 | Z23: 126.23333 | AA23: 127.13333 | AB23: 127.16667 | AC23: 126.96667 | AD23: 127.76667 | AE23: 128.53333 | AF23: 128.83333 | AG23: 129 | AH23: 130.13333 | AI23: 130.7 | AJ23: 131.43333 | AK23: 131.73333 | AL23: 132.9 | AM23: 133.96667 | AN23: 134.66667 | AO23: 134.6 | AP23: 135.46667 | AQ23: 135.76667 | AR23: 135.76667 | AS23: 136.23333 | AT23: 137.03333 | AU23: 138.4 | AV23: 139.8 | AW23: 140.93333 | AX23: 143.2 | AY23: 146.33333 | AZ23: 148.43333 | BA23: 149.63333 | BB23: 151.2 | BC23: 153.2 | BD23: 154.4 | BE23: 155.26667
... A26: Services 9 | B26: 122.2 | C26: 123.13333 | D26: 124.43333 | E26: 124.93333 | F26: 125.33333 | G26: 126.46667 | H26: 127.4 | I26: 127.73333 | J26: 128.2 | K26: 129.4 | L26: 129.7 | M26: 129.8 | N26: 130 | O26: 130.76667 | P26: 131.6 | Q26: 131.76667 | R26: 132.3 | S26: 133.46667 | T26: 134.56667 | U26: 134.63333 | V26: 135.26667 | W26: 136.1 | X26: 137.1 | Y26: 137.03333 | Z26: 137.56667 | AA26: 138.63333 | AB26: 139.73333 | AC26: 139.66667 | AD26: 140.66667 | AE26: 141.93333 | AF26: 142.7 | AG26: 142.7 | AH26: 144.16667 | AI26: 145.13333 | AJ26: 146.83333 | AK26: 146.9 | AL26: 147.6 | AM26: 148.96667 | AN26: 150.36667 | AO26: 149.86667 | AP26: 150.53333 | AQ26: 151.26667 | AR26: 151.53333 | AS26: 152.03333 | AT26: 152.66667 | AU26: 154.1 | AV26: 155.73333 | AW26: 156.8 | AX26: 158.5 | AY26: 161.83333 | AZ26: 164.43333 | BA26: 165.56667 | BB26: 166.83333 | BC26: 169.13333 | BD26: 171.26667 | BE26: 173
A31: Footnotes:
A32: 1 | B32: The Consumer Price Index (CPI) is not a cost-of-living index. The objective behind a cost-of-living index is to measure changes in expenditures necessary for consumers to maintain a constant standard of living. The idea is that consumers would normally switch between products as the price relationship of goods changes. If, for example, consumers get the same satisfaction from drinking tea as they do from coffee, then it is possible to substitute tea for coffee if the price of tea falls relative to the price of coffee. The cheaper of the interchangeable products may be chosen. We could compute a cost-of-living index for an individual if we had complete information about that person's taste and spending habits. To do this for a large number of people, let alone the total population of Canada, is impossible. For this reason, regularly published price indexes are based on the fixed-basket concept rather than the cost-of-living concept.
A33: 2 | B33: This table replaces table 18-10-0008-01 which was archived with the release of April 2007 data.
A34: 3 | B34: From April 2020 to November 2021, and from January 2022 to February 2022, certain sub-indexes and components thereof were imputed using special approaches in either one, or more months. The affected indexes include child care services; housekeeping services; air transportation; personal care services; recreational services; travel tours; spectator entertainment; use of recreational facilities and services; beer served in licensed establishments; wine served in licensed establishments, and liquor served in licensed establishments. The details of these treatments from April 2020 to March 2021 are provided in technical supplements available through the <a href=https://www150.statcan.gc.ca/n1/en/catalogue/62F0014M" rel="external noopener noreferrer" target="_blank">Prices Analytical Series (opens new window)</a>. Starting in April 2021 | C34: details and treatments are available upon request by contacting the <a href="mailto:statcan.cpddisseminationunit-dpcunitedediffusion.statcan@statcan.gc.ca" rel="external noopener noreferrer" target="_blank">Consumer Prices Division (opens new window)</a>."
A35: 4 | B35: The goods and services that make up the Consumer Price Index (CPI) are organized according to a hierarchical structure with the all-items CPI as the top level. Eight major components of goods and services make up the all-items CPI. They are food; shelter; household operations, furnishings and equipment; clothing and footwear; transportation; health and personal care; recreation, education and reading; and alcoholic beverages, tobacco products and recreational cannabis. These eight components are broken down into a varying number of sub-groups which are in turn broken down into other sub-groups. Indents are used to identify the components that make up each level of aggregation. For example, the eight major components appear with one indent relative to the all-items CPI to show that they are combined to obtain the all-items CPI. NOTE: Some items are recombined outside the main structure of the CPI to obtain special aggregates such as all-items excluding food and energy; energy; goods; services; or fresh fruit and vegetables. They are listed after the components of the main structure of the CPI following the last major component entitled alcoholic beverages, tobacco products and recreational cannabis.
A36: 5 | B36: Food includes non-alcoholic beverages.
A37: 6 | B37: Part of the increase first recorded in the shelter index for Yellowknife for December 2004 inadvertently reflected rent increases that actually occurred earlier. As a result, the change in the shelter index was overstated in December 2004, and was understated in the previous two years. The shelter index series for Yellowknife has been corrected from December 2002. In addition, the Yellowknife all-items Consumer Price Index (CPI) and some Yellowknife special aggregate index series have also changed. Data for Canada and all other provinces and territories were not affected.
A38: 7 | B38: The special aggregate energy includes electricity; natural gas; fuel oil and other fuels; gasoline; and fuel, parts and accessories for recreational vehicles.
A39: 8 | B39: Goods are physical or tangible commodities usually classified according to their life span into non-durable goods, semi-durable goods and durable goods. Non-durable goods are those goods that can be used up entirely in less than a year, assuming normal usage. For example, fresh food products, disposable cameras and gasoline are non-durable goods. Semi-durable goods are those goods that may last less than 12 months or greater than 12 months depending on the purpose to which they are put. For example, clothing, footwear and household textiles are semi-durable goods. Durable goods are those goods which may be used repeatedly or continuously over more than a year, assuming normal usage. For example, cars, audio and video equipment and furniture are durable goods.
A40: 9 | B40: A service in the Consumer Price Index (CPI) is characterized by valuable work performed by an individual or organization on behalf of a consumer, for example, car tune-ups, haircuts and city public transportation. Transactions classified as a service may include the cost of goods by their nature. Examples include food in restaurant food services and materials in clothing repair services.
A44: How to cite: Statistics Canada. Table 18-10-0004-01 Consumer Price Index, monthly, not seasonally adjusted
A45: https://www150.statcan.gc.ca/t1/tbl1/en/tv.action?pid=1810000401

Sheet CPI Yr over Yr
A1: Consumer Price Index, monthly, not seasonally adjusted 1 2 3
A2: Frequency: Quarterly calculated as 3-month avaerage
A3: Table: 18-10-0004-01 (formerly CANSIM 326-0020)
A4: Release date: 2024-02-20
A5: Geography: Canada, Province or territory, Census subdivision, Census metropolitan area, Census metropolitan area part
B7: 2002=100
A9: Geography | B9: Canada
B11: Q1-10 | C11: Q2-10 | D11: Q3-10 | E11: Q4-10 | F11: Q1-11 | G11: Q2-11 | H11: Q3-11 | I11: Q4-11 | J11: Q1-12 | K11: Q2-12 | L11: Q3-12 | M11: Q4-12 | N11: Q1-13 | O11: Q2-13 | P11: Q3-13 | Q11: Q4-13 | R11: Q1-14 | S11: Q2-14 | T11: Q3-14 | U11: Q4-14 | V11: Q1-15 | W11: Q2-15 | X11: Q3-15 | Y11: Q4-15 | Z11: Q1-16 | AA11: Q2-16 | AB11: Q3-16 | AC11: Q4-16 | AD11: Q1-17 | AE11: Q2-17 | AF11: Q3-17 | AG11: Q4-17 | AH11: Q1-18 | AI11: Q2-18 | AJ11: Q3-18 | AK11: Q4-18 | AL11: Q1-19 | AM11: Q2-19 | AN11: Q3-19 | AO11: Q4-19 | AP11: Q1-20 | AQ11: Q2-20 | AR11: Q3-20 | AS11: Q4-20 | AT11: Q1-21 | AU11: Q2-21 | AV11: Q3-21 | AW11: Q4-21 | AX11: Q1-22 | AY11: Q2-22 | AZ11: Q3-22 | BA11: Q4-22 | BB11: Q1-23 | BC11: Q2-23 | BD11: Q3-23 | BE11: Q4-23 | BF11: Q1-24 | BG11: Q2-24 | BH11: Q3-24 | BI11: Q4-24 | BJ11: Q1-25 | BK11: Q2-25
A12: All-items CPI | F12: ='CPI Qua'!F12/'CPI Qua'!B12-1 -> 0.025989027 | G12: ='CPI Qua'!G12/'CPI Qua'!C12-1 -> 0.033572453 | H12: ='CPI Qua'!H12/'CPI Qua'!D12-1 -> 0.029965753 | I12: ='CPI Qua'!I12/'CPI Qua'!E12-1 -> 0.026958002 | J12: ='CPI Qua'!J12/'CPI Qua'!F12-1 -> 0.02336054 | K12: ='CPI Qua'!K12/'CPI Qua'!G12-1 -> 0.015824542 | L12: ='CPI Qua'!L12/'CPI Qua'!H12-1 -> 0.012191743 | M12: ='CPI Qua'!M12/'CPI Qua'!I12-1 -> 0.0093948605 | ... BE12: ='CPI Qua'!BE12/'CPI Qua'!BA12-1 -> 0.032111087
A13: Food 5 | F13: ='CPI Qua'!F13/'CPI Qua'!B13-1 -> 0.025264874 | G13: ='CPI Qua'!G13/'CPI Qua'!C13-1 -> 0.038513697 | H13: ='CPI Qua'!H13/'CPI Qua'!D13-1 -> 0.043231559 | I13: ='CPI Qua'!I13/'CPI Qua'!E13-1 -> 0.044876994 | J13: ='CPI Qua'!J13/'CPI Qua'!F13-1 -> 0.034976153 | K13: ='CPI Qua'!K13/'CPI Qua'!G13-1 -> 0.023504832 | L13: ='CPI Qua'!L13/'CPI Qua'!H13-1 -> 0.01968402 | M13: ='CPI Qua'!M13/'CPI Qua'!I13-1 -> 0.017076326 | ... BE13: ='CPI Qua'!BE13/'CPI Qua'!BA13-1 -> 0.052036199
A14: Shelter 6 | F14: ='CPI Qua'!F14/'CPI Qua'!B14-1 -> 0.022721051 | G14: ='CPI Qua'!G14/'CPI Qua'!C14-1 -> 0.019256848 | H14: ='CPI Qua'!H14/'CPI Qua'!D14-1 -> 0.015045674 | I14: ='CPI Qua'!I14/'CPI Qua'!E14-1 -> 0.016059957 | J14: ='CPI Qua'!J14/'CPI Qua'!F14-1 -> 0.018736617 | K14: ='CPI Qua'!K14/'CPI Qua'!G14-1 -> 0.011974454 | L14: ='CPI Qua'!L14/'CPI Qua'!H14-1 -> 0.010587612 | M14: ='CPI Qua'!M14/'CPI Qua'!I14-1 -> 0.0079030558 | ... BE14: ='CPI Qua'!BE14/'CPI Qua'!BA14-1 -> 0.059856345
A15: Household operations, furnishings and equipment | F15: ='CPI Qua'!F15/'CPI Qua'!B15-1 -> 0.017257319 | G15: ='CPI Qua'!G15/'CPI Qua'!C15-1 -> 0.015965613 | H15: ='CPI Qua'!H15/'CPI Qua'!D15-1 -> 0.018009768 | I15: ='CPI Qua'!I15/'CPI Qua'!E15-1 -> 0.023468455 | J15: ='CPI Qua'!J15/'CPI Qua'!F15-1 -> 0.023023326 | K15: ='CPI Qua'!K15/'CPI Qua'!G15-1 -> 0.022967664 | L15: ='CPI Qua'!L15/'CPI Qua'!H15-1 -> 0.016191904 | M15: ='CPI Qua'!M15/'CPI Qua'!I15-1 -> 0.01369863 | ... BE15: ='CPI Qua'!BE15/'CPI Qua'!BA15-1 -> -0.014583857
A16: Clothing and footwear | F16: ='CPI Qua'!F16/'CPI Qua'!B16-1 -> -0.011640597 | G16: ='CPI Qua'!G16/'CPI Qua'!C16-1 -> 0.0025316456 | H16: ='CPI Qua'!H16/'CPI Qua'!D16-1 -> 0.013249908 | I16: ='CPI Qua'!I16/'CPI Qua'!E16-1 -> 0.0090645395 | J16: ='CPI Qua'!J16/'CPI Qua'!F16-1 -> 0.015826279 | K16: ='CPI Qua'!K16/'CPI Qua'!G16-1 -> 0.0072150072 | L16: ='CPI Qua'!L16/'CPI Qua'!H16-1 -> -0.012350163 | M16: ='CPI Qua'!M16/'CPI Qua'!I16-1 -> -0.0068271649 | ... BE16: ='CPI Qua'!BE16/'CPI Qua'!BA16-1 -> 0.0034506556
A17: Transportation | F17: ='CPI Qua'!F17/'CPI Qua'!B17-1 -> 0.054700855 | G17: ='CPI Qua'!G17/'CPI Qua'!C17-1 -> 0.081632653 | H17: ='CPI Qua'!H17/'CPI Qua'!D17-1 -> 0.071103527 | I17: ='CPI Qua'!I17/'CPI Qua'!E17-1 -> 0.052149792 | J17: ='CPI Qua'!J17/'CPI Qua'!F17-1 -> 0.039168017 | K17: ='CPI Qua'!K17/'CPI Qua'!G17-1 -> 0.018867925 | L17: ='CPI Qua'!L17/'CPI Qua'!H17-1 -> 0.014869888 | M17: ='CPI Qua'!M17/'CPI Qua'!I17-1 -> 0.0063274453 | ... BE17: ='CPI Qua'!BE17/'CPI Qua'!BA17-1 -> 0.0091469477
A18: Gasoline | F18: ='CPI Qua'!F18/'CPI Qua'!B18-1 -> 0.15873016 | G18: ='CPI Qua'!G18/'CPI Qua'!C18-1 -> 0.28124286 | H18: ='CPI Qua'!H18/'CPI Qua'!D18-1 -> 0.22998643 | I18: ='CPI Qua'!I18/'CPI Qua'!E18-1 -> 0.13011633 | J18: ='CPI Qua'!J18/'CPI Qua'!F18-1 -> 0.073853484 | K18: ='CPI Qua'!K18/'CPI Qua'!G18-1 -> -0.002853067 | L18: ='CPI Qua'!L18/'CPI Qua'!H18-1 -> 0.018201875 | M18: ='CPI Qua'!M18/'CPI Qua'!I18-1 -> 0.018299657 | ... BE18: ='CPI Qua'!BE18/'CPI Qua'!BA18-1 -> -0.050251256
A19: Health and personal care | F19: ='CPI Qua'!F19/'CPI Qua'!B19-1 -> 0.02111437 | G19: ='CPI Qua'!G19/'CPI Qua'!C19-1 -> 0.021214763 | H19: ='CPI Qua'!H19/'CPI Qua'!D19-1 -> 0.010341856 | I19: ='CPI Qua'!I19/'CPI Qua'!E19-1 -> 0.015809141 | J19: ='CPI Qua'!J19/'CPI Qua'!F19-1 -> 0.018954624 | K19: ='CPI Qua'!K19/'CPI Qua'!G19-1 -> 0.014797951 | L19: ='CPI Qua'!L19/'CPI Qua'!H19-1 -> 0.014500995 | M19: ='CPI Qua'!M19/'CPI Qua'!I19-1 -> 0.0067911715 | ... BE19: ='CPI Qua'!BE19/'CPI Qua'!BA19-1 -> 0.04251299
A20: Recreation, education and reading | F20: ='CPI Qua'!F20/'CPI Qua'!B20-1 -> 0.012024699 | G20: ='CPI Qua'!G20/'CPI Qua'!C20-1 -> 0.020920502 | H20: ='CPI Qua'!H20/'CPI Qua'!D20-1 -> 0.013937282 | I20: ='CPI Qua'!I20/'CPI Qua'!E20-1 -> 0.0047862157 | J20: ='CPI Qua'!J20/'CPI Qua'!F20-1 -> -0.00064226076 | K20: ='CPI Qua'!K20/'CPI Qua'!G20-1 -> 0.0050441362 | L20: ='CPI Qua'!L20/'CPI Qua'!H20-1 -> 0.007497657 | M20: ='CPI Qua'!M20/'CPI Qua'!I20-1 -> 0.009844395 | ... BE20: ='CPI Qua'!BE20/'CPI Qua'!BA20-1 -> 0.028100513
