Workbook

Sheet 3610043401-noSymbol (9)
A1: Gross domestic product (GDP) at basic prices, by industry, monthly (x 1,000,000) 1 2
A2: Frequency: Monthly
A3: Table: 36-10-0434-01 (formerly CANSIM 379-0031)
A4: Release date: 2024-01-31
A5: Geography: Canada
A9: Geography | B9: Canada
A10: Seasonal adjustment | B10: Seasonally adjusted at annual rates
A11: Prices | B11: Chained (2017) dollars 3
A12: North American Industry Classification System (NAICS) | B12: 42736 | C12: 42767 | D12: 42795 | E12: 42826 | F12: 42856 | G12: 42887 | H12: 42917 | I12: 42948 | J12: 42979 | K12: 43009 | L12: 43040 | M12: 43070 | N12: 43101 | O12: 43132 | P12: 43160 | Q12: 43191 | R12: 43221 | S12: 43252 | T12: 43282 | U12: 43313 | V12: 43344 | W12: 43374 | X12: 43405 | Y12: 43435 | Z12: 43466 | AA12: 43497 | AB12: 43525 | AC12: 43556 | AD12: 43586 | AE12: 43617 | AF12: 43647 | AG12: 43678 | AH12: 43709 | AI12: 43739 | AJ12: 43770 | AK12: 43800 | AL12: 43831 | AM12: 43862 | AN12: 43891 | AO12: 43922 | AP12: 43952 | AQ12: 43983 | AR12: 44013 | AS12: 44044 | AT12: 44075 | AU12: 44105 | AV12: 44136 | AW12: 44166 | AX12: 44197 | AY12: 44228 | AZ12: 44256 | BA12: 44287 | BB12: 44317 | BC12: 44348 | BD12: 44378 | BE12: 44409 | BF12: 44440 | BG12: 44470 | BH12: 44501 | BI12: 44531 | BJ12: 44562 | BK12: 44593 | BL12: 44621 | BM12: 44652 | BN12: 44682 | BO12: 44713 | BP12: 44743 | BQ12: 44774 | BR12: 44805 | BS12: 44835 | BT12: 44866 | BU12: 44896 | BV12: 44927 | BW12: 44958 | BX12: 44986 | BY12: 45017 | BZ12: 45047 | CA12: 45078 | CB12: 45108 | CC12: 45139 | CD12: 45170 | CE12: 45200 | CF12: 45231
B13: Dollars
A14: All industries [T001] 4 | B14: 1962254 | C14: 1969304 | D14: 1978060 | E14: 1987668 | F14: 1992055 | G14: 1996878 | H14: 1996019 | I14: 1994122 | J14: 1999220 | K14: 1999518 | L14: 2008970 | M14: 2014340 | N14: 2020721 | O14: 2031403 | P14: 2039914 | Q14: 2040275 | R14: 2047718 | S14: 2050188 | T14: 2054500 | U14: 2056138 | V14: 2059567 | W14: 2063118 | X14: 2059427 | Y14: 2062691 | Z14: 2067478 | AA14: 2061962 | AB14: 2073732 | AC14: 2086598 | AD14: 2092359 | AE14: 2096319 | AF14: 2097225 | AG14: 2097381 | AH14: 2098372 | AI14: 2099541 | AJ14: 2099164 | AK14: 2109773 | AL14: 2114210 | AM14: 2118330 | AN14: 1959569 | AO14: 1749376 | AP14: 1829021 | AQ14: 1935578 | AR14: 1985603 | AS14: 2004911 | AT14: 2023883 | AU14: 2035550 | AV14: 2049508 | AW14: 2052921 | AX14: 2061870 | AY14: 2065797 | AZ14: 2088503 | BA14: 2067190 | BB14: 2058230 | BC14: 2076121 | BD14: 2089072 | BE14: 2105441 | BF14: 2111870 | BG14: 2127417 | BH14: 2137002 | BI14: 2140435 | BJ14: 2138449 | BK14: 2154659 | BL14: 2169435 | BM14: 2167945 | BN14: 2173925 | BO14: 2179345 | BP14: 2180920 | BQ14: 2187444 | BR14: 2191747 | BS14: 2187842 | BT14: 2187964 | BU14: 2181765 | BV14: 2196473 | BW14: 2201628 | BX14: 2204949 | BY14: 2204260 | BZ14: 2210655 | CA14: 2207169 | CB14: 2205743 | CC14: 2206164 | CD14: 2206714 | CE14: 2207293 | CF14: 2212371
A15: Goods-producing industries [T002] 4 | B15: 541243 | C15: 541117 | D15: 543571 | E15: 547314 | F15: 549602 | G15: 551174 | H15: 552649 | I15: 546788 | J15: 549159 | K15: 548010 | L15: 552832 | M15: 553561 | N15: 555891 | O15: 561587 | P15: 568051 | Q15: 567485 | R15: 566040 | S15: 567748 | T15: 568844 | U15: 566429 | V15: 565498 | W15: 565148 | X15: 561699 | Y15: 558824 | Z15: 558703 | AA15: 557700 | AB15: 563088 | AC15: 569995 | AD15: 573348 | AE15: 572246 | AF15: 568252 | AG15: 566933 | AH15: 567269 | AI15: 566814 | AJ15: 565109 | AK15: 566539 | AL15: 564416 | AM15: 569394 | AN15: 541362 | AO15: 459461 | AP15: 499378 | AQ15: 526681 | AR15: 536761 | AS15: 538830 | AT15: 542701 | AU15: 546101 | AV15: 552321 | AW15: 556094 | AX15: 561315 | AY15: 558849 | AZ15: 565374 | BA15: 561939 | BB15: 556921 | BC15: 560464 | BD15: 556448 | BE15: 557143 | BF15: 553581 | BG15: 563630 | BH15: 564170 | BI15: 567810 | BJ15: 574718 | BK15: 577927 | BL15: 582189 | BM15: 583030 | BN15: 581533 | BO15: 585385 | BP15: 583804 | BQ15: 586304 | BR15: 586466 | BS15: 582069 | BT15: 581719 | BU15: 575568 | BV15: 579198 | BW15: 580945 | BX15: 582306 | BY15: 581304 | BZ15: 579508 | CA15: 577763 | CB15: 576510 | CC15: 574536 | CD15: 575567 | CE15: 574769 | CF15: 578179
A16: Service-producing industries [T003] 4 | B16: 1421952 | C16: 1429160 | D16: 1435347 | E16: 1440962 | F16: 1442645 | G16: 1445604 | H16: 1442975 | I16: 1446767 | J16: 1449388 | K16: 1450822 | L16: 1455497 | M16: 1460269 | N16: 1464592 | O16: 1469585 | P16: 1471644 | Q16: 1472653 | R16: 1481669 | S16: 1482461 | T16: 1485692 | U16: 1489801 | V16: 1494208 | W16: 1498103 | X16: 1497864 | Y16: 1504036 | Z16: 1508902 | AA16: 1504365 | AB16: 1510723 | AC16: 1516636 | AD16: 1519029 | AE16: 1524125 | AF16: 1529043 | AG16: 1530541 | AH16: 1531214 | AI16: 1532876 | AJ16: 1534245 | AK16: 1543433 | AL16: 1549655 | AM16: 1549060 | AN16: 1419280 | AO16: 1289139 | AP16: 1330132 | AQ16: 1409246 | AR16: 1448916 | AS16: 1465909 | AT16: 1480918 | AU16: 1489213 | AV16: 1497148 | AW16: 1497040 | AX16: 1500996 | AY16: 1507168 | AZ16: 1523400 | BA16: 1505704 | BB16: 1501558 | BC16: 1515820 | BD16: 1532252 | BE16: 1547625 | BF16: 1557206 | BG16: 1563080 | BH16: 1571930 | BI16: 1571865 | BJ16: 1563427 | BK16: 1576370 | BL16: 1586970 | BM16: 1584798 | BN16: 1592106 | BO16: 1593882 | BP16: 1596927 | BQ16: 1601040 | BR16: 1605145 | BS16: 1605422 | BT16: 1605871 | BU16: 1605494 | BV16: 1616544 | BW16: 1619956 | BX16: 1621903 | BY16: 1622131 | BZ16: 1630045 | CA16: 1628202 | CB16: 1627962 | CC16: 1630186 | CD16: 1629785 | CE16: 1631071 | CF16: 1632907
A17: Business sector industries [T004] | B17: 1597765 | C17: 1604354 | D17: 1612686 | E17: 1621746 | F17: 1625421 | G17: 1628701 | H17: 1626367 | I17: 1623030 | J17: 1626677 | K17: 1626692 | L17: 1635271 | M17: 1639442 | N17: 1644431 | O17: 1653903 | P17: 1661368 | Q17: 1660439 | R17: 1666490 | S17: 1668077 | T17: 1671789 | U17: 1672970 | V17: 1676250 | W17: 1679473 | X17: 1675651 | Y17: 1679003 | Z17: 1683129 | AA17: 1677327 | AB17: 1688321 | AC17: 1700896 | AD17: 1706183 | AE17: 1709859 | AF17: 1709609 | AG17: 1709532 | AH17: 1710516 | AI17: 1710467 | AJ17: 1709535 | AK17: 1718742 | AL17: 1721698 | AM17: 1725137 | AN17: 1588427 | AO17: 1395030 | AP17: 1465126 | AQ17: 1565803 | AR17: 1606125 | AS17: 1620117 | AT17: 1635735 | AU17: 1645428 | AV17: 1658584 | AW17: 1659874 | AX17: 1667973 | AY17: 1670048 | AZ17: 1688589 | BA17: 1671161 | BB17: 1658313 | BC17: 1673332 | BD17: 1684119 | BE17: 1700448 | BF17: 1705042 | BG17: 1721591 | BH17: 1730268 | BI17: 1733248 | BJ17: 1733014 | BK17: 1747118 | BL17: 1762295 | BM17: 1760095 | BN17: 1764173 | BO17: 1768161 | BP17: 1769043 | BQ17: 1774982 | BR17: 1778604 | BS17: 1772313 | BT17: 1770695 | BU17: 1763427 | BV17: 1776813 | BW17: 1780487 | BX17: 1782751 | BY17: 1784092 | BZ17: 1787479 | CA17: 1782830 | CB17: 1779926 | CC17: 1779041 | CD17: 1778760 | CE17: 1778172 | CF17: 1783266
A18: Business sector, goods [T005] | B18: 536837 | C18: 536705 | D18: 539158 | E18: 542911 | F18: 545213 | G18: 546810 | H18: 548288 | I18: 542444 | J18: 544791 | K18: 543650 | L18: 548485 | M18: 549228 | N18: 551565 | O18: 557224 | P18: 563697 | Q18: 563149 | R18: 561716 | S18: 563408 | T18: 564532 | U18: 562104 | V18: 561171 | W18: 560871 | X18: 557420 | Y18: 554571 | Z18: 554438 | AA18: 553431 | AB18: 558807 | AC18: 565736 | AD18: 569079 | AE18: 567997 | AF18: 564009 | AG18: 562705 | AH18: 563032 | AI18: 562560 | AJ18: 560848 | AK18: 562294 | AL18: 560174 | AM18: 565195 | AN18: 537291 | AO18: 455555 | AP18: 495404 | AQ18: 522538 | AR18: 532482 | AS18: 534517 | AT18: 538380 | AU18: 541748 | AV18: 547995 | AW18: 551773 | AX18: 557012 | AY18: 554505 | AZ18: 560963 | BA18: 557544 | BB18: 552406 | BC18: 555918 | BD18: 551917 | BE18: 552623 | BF18: 549086 | BG18: 559133 | BH18: 559650 | BI18: 563295 | BJ18: 570228 | BK18: 573442 | BL18: 577691 | BM18: 578482 | BN18: 577000 | BO18: 580901 | BP18: 579343 | BQ18: 581869 | BR18: 582009 | BS18: 577603 | BT18: 577263 | BU18: 571145 | BV18: 574763 | BW18: 576543 | BX18: 577908 | BY18: 576859 | BZ18: 574999 | CA18: 573292 | CB18: 572083 | CC18: 570099 | CD18: 571124 | CE18: 570315 | CF18: 573727
A19: Business sector, services [T006] | B19: 1060810 | C19: 1067489 | D19: 1073366 | E19: 1078696 | F19: 1080154 | G19: 1081908 | H19: 1078153 | I19: 1080693 | J19: 1082036 | K19: 1083181 | L19: 1086889 | M19: 1090257 | N19: 1092826 | O19: 1096631 | P19: 1097584 | Q19: 1097199 | R19: 1104741 | S19: 1104639 | T19: 1107222 | U19: 1110865 | V19: 1115115 | W19: 1118626 | X19: 1118272 | Y19: 1124528 | Z19: 1128776 | AA19: 1123957 | AB19: 1129560 | AC19: 1135203 | AD19: 1137136 | AE19: 1141920 | AF19: 1145712 | AG19: 1146954 | AH19: 1147637 | AI19: 1148051 | AJ19: 1148872 | AK19: 1156650 | AL19: 1161111 | AM19: 1159784 | AN19: 1052121 | AO19: 939249 | AP19: 970611 | AQ19: 1043753 | AR19: 1073911 | AS19: 1085688 | AT19: 1097330 | AU19: 1103665 | AV19: 1110693 | AW19: 1108432 | AX19: 1111454 | AY19: 1115838 | AZ19: 1127959 | BA19: 1114106 | BB19: 1106351 | BC19: 1117777 | BD19: 1132069 | BE19: 1147382 | BF19: 1155167 | BG19: 1161971 | BH19: 1169962 | BI19: 1169480 | BJ19: 1162761 | BK19: 1173541 | BL19: 1184430 | BM19: 1181541 | BN19: 1186933 | BO19: 1187168 | BP19: 1189496 | BQ19: 1192952 | BR19: 1196352 | BS19: 1194327 | BT19: 1193068 | BU19: 1191687 | BV19: 1201390 | BW19: 1203349 | BX19: 1204266 | BY19: 1206552 | BZ19: 1211581 | CA19: 1208622 | CB19: 1206910 | CC19: 1207895 | CD19: 1206646 | CE19: 1206845 | CF19: 1208642
A20: Non-business sector industries [T007] | B20: 365432 | C20: 366008 | D20: 366357 | E20: 366679 | F20: 366951 | G20: 368123 | H20: 369244 | I20: 370476 | J20: 371760 | K20: 372011 | L20: 372936 | M20: 374279 | N20: 375940 | O20: 377204 | P20: 378358 | Q20: 379757 | R20: 381238 | S20: 382181 | T20: 382831 | U20: 383317 | V20: 383480 | W20: 383823 | X20: 383939 | Y20: 383808 | Z20: 384414 | AA20: 384691 | AB20: 385476 | AC20: 385743 | AD20: 386218 | AE20: 386496 | AF20: 387611 | AG20: 387828 | AH20: 387818 | AI20: 389033 | AJ20: 389554 | AK20: 390918 | AL20: 392858 | AM20: 393529 | AN20: 371110 | AO20: 353338 | AP20: 363095 | AQ20: 369515 | AR20: 379178 | AS20: 384420 | AT20: 387795 | AU20: 389795 | AV20: 390697 | AW20: 392794 | AX20: 393744 | AY20: 395539 | AZ20: 399720 | BA20: 395822 | BB20: 399453 | BC20: 402317 | BD20: 404489 | BE20: 404626 | BF20: 406410 | BG20: 405541 | BH20: 406452 | BI20: 406875 | BJ20: 405153 | BK20: 407316 | BL20: 407082 | BM20: 407800 | BN20: 409702 | BO20: 411173 | BP20: 411876 | BQ20: 412509 | BR20: 413206 | BS20: 415482 | BT20: 417174 | BU20: 418147 | BV20: 419545 | BW20: 420983 | BX20: 421973 | BY20: 419993 | BZ20: 422901 | CA20: 423968 | CB20: 425353 | CC20: 426587 | CD20: 427407 | CE20: 428490 | CF20: 428536
A21: Non-business sector, goods [T008] | B21: 4403 | C21: 4407 | D21: 4404 | E21: 4401 | F21: 4386 | G21: 4366 | H21: 4362 | I21: 4350 | J21: 4371 | K21: 4365 | L21: 4350 | M21: 4335 | N21: 4329 | O21: 4360 | P21: 4356 | Q21: 4330 | R21: 4325 | S21: 4341 | T21: 4311 | U21: 4325 | V21: 4326 | W21: 4275 | X21: 4276 | Y21: 4250 | Z21: 4260 | AA21: 4264 | AB21: 4278 | AC21: 4264 | AD21: 4275 | AE21: 4248 | AF21: 4245 | AG21: 4230 | AH21: 4239 | AI21: 4253 | AJ21: 4262 | AK21: 4242 | AL21: 4254 | AM21: 4209 | AN21: 4080 | AO21: 3876 | AP21: 3960 | AQ21: 4131 | AR21: 4268 | AS21: 4295 | AT21: 4304 | AU21: 4342 | AV21: 4320 | AW21: 4313 | AX21: 4305 | AY21: 4347 | AZ21: 4407 | BA21: 4391 | BB21: 4495 | BC21: 4514 | BD21: 4503 | BE21: 4500 | BF21: 4479 | BG21: 4481 | BH21: 4502 | BI21: 4500 | BJ21: 4480 | BK21: 4478 | BL21: 4504 | BM21: 4539 | BN21: 4524 | BO21: 4476 | BP21: 4459 | BQ21: 4436 | BR21: 4446 | BS21: 4451 | BT21: 4447 | BU21: 4424 | BV21: 4443 | BW21: 4413 | BX21: 4400 | BY21: 4443 | BZ21: 4501 | CA21: 4464 | CB21: 4423 | CC21: 4431 | CD21: 4437 | CE21: 4448 | CF21: 4447
A22: Non-business sector, services [T009] | B22: 361027 | C22: 361602 | D22: 361958 | E22: 362281 | F22: 362564 | G22: 363759 | H22: 364881 | I22: 366123 | J22: 367389 | K22: 367649 | L22: 368582 | M22: 369941 | N22: 371606 | O22: 372839 | P22: 373998 | Q22: 375428 | R22: 376915 | S22: 377842 | T22: 378522 | U22: 378993 | V22: 379156 | W22: 379551 | X22: 379669 | Y22: 379565 | Z22: 380161 | AA22: 380434 | AB22: 381201 | AC22: 381482 | AD22: 381947 | AE22: 382246 | AF22: 383371 | AG22: 383603 | AH22: 383584 | AI22: 384785 | AJ22: 385298 | AK22: 386676 | AL22: 388610 | AM22: 389324 | AN22: 367032 | AO22: 349464 | AP22: 359136 | AQ22: 365386 | AR22: 374917 | AS22: 380129 | AT22: 383490 | AU22: 385456 | AV22: 386380 | AW22: 388484 | AX22: 389437 | AY22: 391200 | AZ22: 395316 | BA22: 391438 | BB22: 394965 | BC22: 397806 | BD22: 399989 | BE22: 400141 | BF22: 401946 | BG22: 401068 | BH22: 401952 | BI22: 402378 | BJ22: 400675 | BK22: 402841 | BL22: 402596 | BM22: 403268 | BN22: 405180 | BO22: 406699 | BP22: 407418 | BQ22: 408074 | BR22: 408773 | BS22: 411032 | BT22: 412725 | BU22: 413723 | BV22: 415102 | BW22: 416570 | BX22: 417573 | BY22: 415555 | BZ22: 418406 | CA22: 419504 | CB22: 420929 | CC22: 422156 | CD22: 422969 | CE22: 424042 | CF22: 424089
A23: Industrial production [T010] 4 | B23: 360661 | C23: 359808 | D23: 361961 | E23: 363438 | F23: 367372 | G23: 366300 | H23: 366577 | I23: 361327 | J23: 362092 | K23: 359441 | L23: 363364 | M23: 364655 | N23: 366530 | O23: 370894 | P23: 377099 | Q23: 376336 | R23: 374604 | S23: 377494 | T23: 379505 | U23: 378372 | V23: 378246 | W23: 378787 | X23: 376293 | Y23: 373400 | Z23: 372179 | AA23: 371757 | AB23: 376323 | AC23: 382786 | AD23: 383893 | AE23: 380538 | AF23: 374887 | AG23: 374923 | AH23: 374872 | AI23: 374248 | AJ23: 372038 | AK23: 372860 | AL23: 370828 | AM23: 375615 | AN23: 351923 | AO23: 296808 | AP23: 316098 | AQ23: 334459 | AR23: 347016 | AS23: 349416 | AT23: 352859 | AU23: 354538 | AV23: 360815 | AW23: 363633 | AX23: 367013 | AY23: 362228 | AZ23: 365770 | BA23: 358720 | BB23: 358337 | BC23: 364588 | BD23: 364103 | BE23: 366327 | BF23: 363658 | BG23: 371165 | BH23: 369570 | BI23: 372061 | BJ23: 375661 | BK23: 376938 | BL23: 379771 | BM23: 381085 | BN23: 380012 | BO23: 383096 | BP23: 380927 | BQ23: 382126 | BR23: 383262 | BS23: 377885 | BT23: 378293 | BU23: 374332 | BV23: 377080 | BW23: 380099 | BX23: 381775 | BY23: 380986 | BZ23: 381616 | CA23: 380656 | CB23: 379903 | CC23: 378291 | CD23: 378147 | CE23: 377011 | CF23: 380000
A24: Non-durable manufacturing industries [T011] 4 | B24: 93233 | C24: 93769 | D24: 94321 | E24: 94593 | F24: 94968 | G24: 95388 | H24: 94606 | I24: 92747 | J24: 93349 | K24: 93767 | L24: 94497 | M24: 94646 | N24: 95985 | O24: 95789 | P24: 96019 | Q24: 95080 | R24: 94251 | S24: 97375 | T24: 97859 | U24: 96996 | V24: 98054 | W24: 96374 | X24: 96544 | Y24: 95514 | Z24: 95724 | AA24: 94758 | AB24: 95029 | AC24: 95460 | AD24: 96094 | AE24: 94932 | AF24: 94505 | AG24: 94639 | AH24: 95117 | AI24: 95755 | AJ24: 96030 | AK24: 96025 | AL24: 94412 | AM24: 95026 | AN24: 92535 | AO24: 80034 | AP24: 84234 | AQ24: 89605 | AR24: 93021 | AS24: 92892 | AT24: 94161 | AU24: 95577 | AV24: 97124 | AW24: 95679 | AX24: 97371 | AY24: 95433 | AZ24: 96816 | BA24: 96039 | BB24: 95150 | BC24: 96970 | BD24: 97236 | BE24: 98019 | BF24: 96879 | BG24: 98956 | BH24: 99158 | BI24: 99177 | BJ24: 99998 | BK24: 100940 | BL24: 101522 | BM24: 99851 | BN24: 98293 | BO24: 98608 | BP24: 98674 | BQ24: 98757 | BR24: 98926 | BS24: 97766 | BT24: 96230 | BU24: 95495 | BV24: 95872 | BW24: 94911 | BX24: 95767 | BY24: 95240 | BZ24: 96448 | CA24: 95942 | CB24: 95188 | CC24: 94641 | CD24: 95032 | CE24: 94703 | CF24: 95878
A25: Durable manufacturing industries [T012] 4 | B25: 112626 | C25: 111569 | D25: 112659 | E25: 113267 | F25: 114036 | G25: 113767 | H25: 112907 | I25: 111984 | J25: 111951 | K25: 113338 | L25: 115323 | M25: 114445 | N25: 115350 | O25: 116149 | P25: 117903 | Q25: 119882 | R25: 117557 | S25: 118043 | T25: 116901 | U25: 116434 | V25: 116851 | W25: 118628 | X25: 117284 | Y25: 117266 | Z25: 118304 | AA25: 118208 | AB25: 119227 | AC25: 117396 | AD25: 121003 | AE25: 119856 | AF25: 119247 | AG25: 118896 | AH25: 118368 | AI25: 116614 | AJ25: 117067 | AK25: 115918 | AL25: 111343 | AM25: 113449 | AN25: 99456 | AO25: 74095 | AP25: 85184 | AQ25: 101124 | AR25: 106112 | AS25: 109583 | AT25: 110029 | AU25: 108824 | AV25: 110531 | AW25: 110914 | AX25: 112226 | AY25: 110037 | AZ25: 111727 | BA25: 107919 | BB25: 107785 | BC25: 109599 | BD25: 107989 | BE25: 108723 | BF25: 107104 | BG25: 110053 | BH25: 111296 | BI25: 111822 | BJ25: 113471 | BK25: 114198 | BL25: 116495 | BM25: 116725 | BN25: 116566 | BO25: 118515 | BP25: 115774 | BQ25: 115590 | BR25: 116266 | BS25: 114679 | BT25: 115949 | BU25: 114976 | BV25: 116877 | BW25: 118823 | BX25: 118391 | BY25: 117468 | BZ25: 120006 | CA25: 118970 | CB25: 117323 | CC25: 116956 | CD25: 117343 | CE25: 115512 | CF25: 116181
... A300: Aboriginal public administration [914] | B300: 4793 | C300: 4742 | D300: 4749 | E300: 4707 | F300: 4667 | G300: 4620 | H300: 4653 | I300: 4687 | J300: 4696 | K300: 4662 | L300: 4672 | M300: 4680 | N300: 4717 | O300: 4748 | P300: 4800 | Q300: 4880 | R300: 4964 | S300: 4997 | T300: 5013 | U300: 5036 | V300: 5055 | W300: 5078 | X300: 5137 | Y300: 5107 | Z300: 5120 | AA300: 5073 | AB300: 5134 | AC300: 5088 | AD300: 5125 | AE300: 5186 | AF300: 5243 | AG300: 5284 | AH300: 5188 | AI300: 5284 | AJ300: 5178 | AK300: 5173 | AL300: 5309 | AM300: 5350 | AN300: 4874 | AO300: 4664 | AP300: 5088 | AQ300: 5025 | AR300: 5162 | AS300: 5197 | AT300: 5279 | AU300: 5297 | AV300: 5329 | AW300: 5514 | AX300: 5463 | AY300: 5476 | AZ300: 5469 | BA300: 5482 | BB300: 5436 | BC300: 5405 | BD300: 5433 | BE300: 5434 | BF300: 5435 | BG300: 5406 | BH300: 5496 | BI300: 5465 | BJ300: 5503 | BK300: 5536 | BL300: 5565 | BM300: 5582 | BN300: 5593 | BO300: 5590 | BP300: 5588 | BQ300: 5571 | BR300: 5608 | BS300: 5597 | BT300: 5620 | BU300: 5643 | BV300: 5694 | BW300: 5772 | BX300: 5838 | BY300: 5923 | BZ300: 5989 | CA300: 6026 | CB300: 6051 | CC300: 6051 | CD300: 5978 | CE300: 6051 | CF300: 6094
A305: Footnotes:
A306: 1 | B306: Aggregates are not always equal to the sum of their components.
A307: 2 | B307: At the lowest level of detail, it may not be possible to produce a homogeneous series from 1997 to the present. Only industries and certain aggregates that provide good continuity back to 1997 have data from 1997 to 2006.
A308: 3 | B308: Effective November 30, 2023, the data is presented on a 2017 reference year basis.
A309: 4 | B309: The alphanumeric code appearing in square brackets beside the industry title represents the identification code of an aggregation of NAICS industries, whose definition is included in the full classification provided in the definitions, data sources and methods for the statistical program <a href=https://www23.statcan.gc.ca/imdb/p2SV.pl?Function=getSurvey&SDDS=1301" rel="external noopener noreferrer" target="_blank">1301 - Gross domestic product by Industry - National (Monthly) (opens new window)</a>."
A310: 5 | B310: With the legalization of production and sale of edible cannabis, cannabis extracts and cannabis topicals in Canada on October 17, 2019, beginning in reference year 2019, industry 3122 (Tobacco manufacturing) also includes cannabis product manufacturing.
A314: How to cite: Statistics Canada. Table 36-10-0434-01 Gross domestic product (GDP) at basic prices, by industry, monthly (x 1,000,000)
A315: https://www150.statcan.gc.ca/t1/tbl1/en/tv.action?pid=3610043401

Sheet YR over YR
A1: Gross domestic product (GDP) at basic prices, by industry, monthly (x 1,000,000) 1 2
A2: Frequency: Monthly
A3: Table: 36-10-0434-01 (formerly CANSIM 379-0031)
A4: Release date: 2024-01-31
A5: Geography: Canada
A9: Geography
A10: Seasonal adjustment
A11: Prices
A12: North American Industry Classification System (NAICS) | B12: 43101 | C12: 43132 | D12: 43160 | E12: 43191 | F12: 43221 | G12: 43252 | H12: 43282 | I12: 43313 | J12: 43344 | K12: 43374 | L12: 43405 | M12: 43435 | N12: 43466 | O12: 43497 | P12: 43525 | Q12: 43556 | R12: 43586 | S12: 43617 | T12: 43647 | U12: 43678 | V12: 43709 | W12: 43739 | X12: 43770 | Y12: 43800 | Z12: 43831 | AA12: 43862 | AB12: 43891 | AC12: 43922 | AD12: 43952 | AE12: 43983 | AF12: 44013 | AG12: 44044 | AH12: 44075 | AI12: 44105 | AJ12: 44136 | AK12: 44166 | AL12: 44197 | AM12: 44228 | AN12: 44256 | AO12: 44287 | AP12: 44317 | AQ12: 44348 | AR12: 44378 | AS12: 44409 | AT12: 44440 | AU12: 44470 | AV12: 44501 | AW12: 44531 | AX12: 44562 | AY12: 44593 | AZ12: 44621 | BA12: 44652 | BB12: 44682 | BC12: 44713 | BD12: 44743 | BE12: 44774 | BF12: 44805 | BG12: 44835 | BH12: 44866 | BI12: 44896 | BJ12: 44927 | BK12: 44958 | BL12: 44986 | BM12: 45017 | BN12: 45047 | BO12: 45078 | BP12: 45108 | BQ12: 45139 | BR12: 45170 | BS12: 45200 | BT12: 45231
A14: All industries | B14: =+'3610043401-noSymbol (9)'!N14/'3610043401-noSymbol (9)'!B14-1 -> 0.029795837 | C14: =+'3610043401-noSymbol (9)'!O14/'3610043401-noSymbol (9)'!C14-1 -> 0.031533476 | D14: =+'3610043401-noSymbol (9)'!P14/'3610043401-noSymbol (9)'!D14-1 -> 0.031270032 | E14: =+'3610043401-noSymbol (9)'!Q14/'3610043401-noSymbol (9)'!E14-1 -> 0.026466694 | F14: =+'3610043401-noSymbol (9)'!R14/'3610043401-noSymbol (9)'!F14-1 -> 0.027942502 | G14: =+'3610043401-noSymbol (9)'!S14/'3610043401-noSymbol (9)'!G14-1 -> 0.026696674 | H14: =+'3610043401-noSymbol (9)'!T14/'3610043401-noSymbol (9)'!H14-1 -> 0.029298819 | I14: =+'3610043401-noSymbol (9)'!U14/'3610043401-noSymbol (9)'!I14-1 -> 0.031099401 | ... BT14: =+'3610043401-noSymbol (9)'!CF14/'3610043401-noSymbol (9)'!BT14-1 -> 0.01115512
A15: Goods-producing industries [T002] 4 | B15: =+'3610043401-noSymbol (9)'!N15/'3610043401-noSymbol (9)'!B15-1 -> 0.027063629 | C15: =+'3610043401-noSymbol (9)'!O15/'3610043401-noSymbol (9)'!C15-1 -> 0.037829157 | D15: =+'3610043401-noSymbol (9)'!P15/'3610043401-noSymbol (9)'!D15-1 -> 0.045035515 | E15: =+'3610043401-noSymbol (9)'!Q15/'3610043401-noSymbol (9)'!E15-1 -> 0.03685453 | F15: =+'3610043401-noSymbol (9)'!R15/'3610043401-noSymbol (9)'!F15-1 -> 0.029908916 | G15: =+'3610043401-noSymbol (9)'!S15/'3610043401-noSymbol (9)'!G15-1 -> 0.030070359 | H15: =+'3610043401-noSymbol (9)'!T15/'3610043401-noSymbol (9)'!H15-1 -> 0.029304314 | I15: =+'3610043401-noSymbol (9)'!U15/'3610043401-noSymbol (9)'!I15-1 -> 0.035920686 | ... BT15: =+'3610043401-noSymbol (9)'!CF15/'3610043401-noSymbol (9)'!BT15-1 -> -0.0060854124
A16: Service-producing industries [T003] 4 | B16: =+'3610043401-noSymbol (9)'!N16/'3610043401-noSymbol (9)'!B16-1 -> 0.029986948 | C16: =+'3610043401-noSymbol (9)'!O16/'3610043401-noSymbol (9)'!C16-1 -> 0.028285846 | D16: =+'3610043401-noSymbol (9)'!P16/'3610043401-noSymbol (9)'!D16-1 -> 0.025287962 | E16: =+'3610043401-noSymbol (9)'!Q16/'3610043401-noSymbol (9)'!E16-1 -> 0.021992946 | F16: =+'3610043401-noSymbol (9)'!R16/'3610043401-noSymbol (9)'!F16-1 -> 0.027050314 | G16: =+'3610043401-noSymbol (9)'!S16/'3610043401-noSymbol (9)'!G16-1 -> 0.025495917 | H16: =+'3610043401-noSymbol (9)'!T16/'3610043401-noSymbol (9)'!H16-1 -> 0.029603423 | I16: =+'3610043401-noSymbol (9)'!U16/'3610043401-noSymbol (9)'!I16-1 -> 0.029744942 | ... BT16: =+'3610043401-noSymbol (9)'!CF16/'3610043401-noSymbol (9)'!BT16-1 -> 0.016835723
A17: Business sector industries [T004] | B17: =+'3610043401-noSymbol (9)'!N17/'3610043401-noSymbol (9)'!B17-1 -> 0.029207049 | C17: =+'3610043401-noSymbol (9)'!O17/'3610043401-noSymbol (9)'!C17-1 -> 0.030884082 | D17: =+'3610043401-noSymbol (9)'!P17/'3610043401-noSymbol (9)'!D17-1 -> 0.030186906 | E17: =+'3610043401-noSymbol (9)'!Q17/'3610043401-noSymbol (9)'!E17-1 -> 0.023858853 | F17: =+'3610043401-noSymbol (9)'!R17/'3610043401-noSymbol (9)'!F17-1 -> 0.025266685 | G17: =+'3610043401-noSymbol (9)'!S17/'3610043401-noSymbol (9)'!G17-1 -> 0.024176322 | H17: =+'3610043401-noSymbol (9)'!T17/'3610043401-noSymbol (9)'!H17-1 -> 0.027928506 | I17: =+'3610043401-noSymbol (9)'!U17/'3610043401-noSymbol (9)'!I17-1 -> 0.03076961 | ... BT17: =+'3610043401-noSymbol (9)'!CF17/'3610043401-noSymbol (9)'!BT17-1 -> 0.0070994722
A18: Business sector, goods [T005] | B18: =+'3610043401-noSymbol (9)'!N18/'3610043401-noSymbol (9)'!B18-1 -> 0.027434771 | C18: =+'3610043401-noSymbol (9)'!O18/'3610043401-noSymbol (9)'!C18-1 -> 0.038231431 | D18: =+'3610043401-noSymbol (9)'!P18/'3610043401-noSymbol (9)'!D18-1 -> 0.04551356 | E18: =+'3610043401-noSymbol (9)'!Q18/'3610043401-noSymbol (9)'!E18-1 -> 0.037276828 | F18: =+'3610043401-noSymbol (9)'!R18/'3610043401-noSymbol (9)'!F18-1 -> 0.030268904 | G18: =+'3610043401-noSymbol (9)'!S18/'3610043401-noSymbol (9)'!G18-1 -> 0.030354236 | H18: =+'3610043401-noSymbol (9)'!T18/'3610043401-noSymbol (9)'!H18-1 -> 0.029626765 | I18: =+'3610043401-noSymbol (9)'!U18/'3610043401-noSymbol (9)'!I18-1 -> 0.036243373 | ... BT18: =+'3610043401-noSymbol (9)'!CF18/'3610043401-noSymbol (9)'!BT18-1 -> -0.0061254575
A19: Business sector, services [T006] | B19: =+'3610043401-noSymbol (9)'!N19/'3610043401-noSymbol (9)'!B19-1 -> 0.030180711 | C19: =+'3610043401-noSymbol (9)'!O19/'3610043401-noSymbol (9)'!C19-1 -> 0.027299579 | D19: =+'3610043401-noSymbol (9)'!P19/'3610043401-noSymbol (9)'!D19-1 -> 0.022562667 | E19: =+'3610043401-noSymbol (9)'!Q19/'3610043401-noSymbol (9)'!E19-1 -> 0.017153118 | F19: =+'3610043401-noSymbol (9)'!R19/'3610043401-noSymbol (9)'!F19-1 -> 0.022762495 | G19: =+'3610043401-noSymbol (9)'!S19/'3610043401-noSymbol (9)'!G19-1 -> 0.021010104 | H19: =+'3610043401-noSymbol (9)'!T19/'3610043401-noSymbol (9)'!H19-1 -> 0.02696185 | I19: =+'3610043401-noSymbol (9)'!U19/'3610043401-noSymbol (9)'!I19-1 -> 0.027919122 | ... BT19: =+'3610043401-noSymbol (9)'!CF19/'3610043401-noSymbol (9)'!BT19-1 -> 0.01305374
A20: Non-business sector industries [T007] | B20: =+'3610043401-noSymbol (9)'!N20/'3610043401-noSymbol (9)'!B20-1 -> 0.028755008 | C20: =+'3610043401-noSymbol (9)'!O20/'3610043401-noSymbol (9)'!C20-1 -> 0.030589495 | D20: =+'3610043401-noSymbol (9)'!P20/'3610043401-noSymbol (9)'!D20-1 -> 0.032757665 | E20: =+'3610043401-noSymbol (9)'!Q20/'3610043401-noSymbol (9)'!E20-1 -> 0.035666073 | F20: =+'3610043401-noSymbol (9)'!R20/'3610043401-noSymbol (9)'!F20-1 -> 0.038934354 | G20: =+'3610043401-noSymbol (9)'!S20/'3610043401-noSymbol (9)'!G20-1 -> 0.038188323 | H20: =+'3610043401-noSymbol (9)'!T20/'3610043401-noSymbol (9)'!H20-1 -> 0.036796806 | I20: =+'3610043401-noSymbol (9)'!U20/'3610043401-noSymbol (9)'!I20-1 -> 0.034660815 | ... BT20: =+'3610043401-noSymbol (9)'!CF20/'3610043401-noSymbol (9)'!BT20-1 -> 0.027235638
A21: Non-business sector, goods [T008] | B21: =+'3610043401-noSymbol (9)'!N21/'3610043401-noSymbol (9)'!B21-1 -> -0.016806723 | C21: =+'3610043401-noSymbol (9)'!O21/'3610043401-noSymbol (9)'!C21-1 -> -0.010664851 | D21: =+'3610043401-noSymbol (9)'!P21/'3610043401-noSymbol (9)'!D21-1 -> -0.010899183 | E21: =+'3610043401-noSymbol (9)'!Q21/'3610043401-noSymbol (9)'!E21-1 -> -0.016132697 | F21: =+'3610043401-noSymbol (9)'!R21/'3610043401-noSymbol (9)'!F21-1 -> -0.013907889 | G21: =+'3610043401-noSymbol (9)'!S21/'3610043401-noSymbol (9)'!G21-1 -> -0.005726065 | H21: =+'3610043401-noSymbol (9)'!T21/'3610043401-noSymbol (9)'!H21-1 -> -0.011691884 | I21: =+'3610043401-noSymbol (9)'!U21/'3610043401-noSymbol (9)'!I21-1 -> -0.0057471264 | ... BT21: =+'3610043401-noSymbol (9)'!CF21/'3610043401-noSymbol (9)'!BT21-1 -> 0
A22: Non-business sector, services [T009] | B22: =+'3610043401-noSymbol (9)'!N22/'3610043401-noSymbol (9)'!B22-1 -> 0.029302518 | C22: =+'3610043401-noSymbol (9)'!O22/'3610043401-noSymbol (9)'!C22-1 -> 0.031075602 | D22: =+'3610043401-noSymbol (9)'!P22/'3610043401-noSymbol (9)'!D22-1 -> 0.033263528 | E22: =+'3610043401-noSymbol (9)'!Q22/'3610043401-noSymbol (9)'!E22-1 -> 0.03628951 | F22: =+'3610043401-noSymbol (9)'!R22/'3610043401-noSymbol (9)'!F22-1 -> 0.039581977 | G22: =+'3610043401-noSymbol (9)'!S22/'3610043401-noSymbol (9)'!G22-1 -> 0.038715193 | H22: =+'3610043401-noSymbol (9)'!T22/'3610043401-noSymbol (9)'!H22-1 -> 0.037384791 | I22: =+'3610043401-noSymbol (9)'!U22/'3610043401-noSymbol (9)'!I22-1 -> 0.035152121 | ... BT22: =+'3610043401-noSymbol (9)'!CF22/'3610043401-noSymbol (9)'!BT22-1 -> 0.027534072
A23: Industrial production [T010] 4 | B23: =+'3610043401-noSymbol (9)'!N23/'3610043401-noSymbol (9)'!B23-1 -> 0.016272899 | C23: =+'3610043401-noSymbol (9)'!O23/'3610043401-noSymbol (9)'!C23-1 -> 0.030810877 | D23: =+'3610043401-noSymbol (9)'!P23/'3610043401-noSymbol (9)'!D23-1 -> 0.041822185 | E23: =+'3610043401-noSymbol (9)'!Q23/'3610043401-noSymbol (9)'!E23-1 -> 0.035488859 | F23: =+'3610043401-noSymbol (9)'!R23/'3610043401-noSymbol (9)'!F23-1 -> 0.019685768 | G23: =+'3610043401-noSymbol (9)'!S23/'3610043401-noSymbol (9)'!G23-1 -> 0.030559651 | H23: =+'3610043401-noSymbol (9)'!T23/'3610043401-noSymbol (9)'!H23-1 -> 0.035266806 | I23: =+'3610043401-noSymbol (9)'!U23/'3610043401-noSymbol (9)'!I23-1 -> 0.047173336 | ... BT23: =+'3610043401-noSymbol (9)'!CF23/'3610043401-noSymbol (9)'!BT23-1 -> 0.0045123753
A24: Non-durable manufacturing industries [T011] 4 | B24: =+'3610043401-noSymbol (9)'!N24/'3610043401-noSymbol (9)'!B24-1 -> 0.029517446 | C24: =+'3610043401-noSymbol (9)'!O24/'3610043401-noSymbol (9)'!C24-1 -> 0.021542301 | D24: =+'3610043401-noSymbol (9)'!P24/'3610043401-noSymbol (9)'!D24-1 -> 0.018002354 | E24: =+'3610043401-noSymbol (9)'!Q24/'3610043401-noSymbol (9)'!E24-1 -> 0.0051483725 | F24: =+'3610043401-noSymbol (9)'!R24/'3610043401-noSymbol (9)'!F24-1 -> -0.0075499115 | G24: =+'3610043401-noSymbol (9)'!S24/'3610043401-noSymbol (9)'!G24-1 -> 0.020830712 | H24: =+'3610043401-noSymbol (9)'!T24/'3610043401-noSymbol (9)'!H24-1 -> 0.034384711 | I24: =+'3610043401-noSymbol (9)'!U24/'3610043401-noSymbol (9)'!I24-1 -> 0.045812803 | ... BT24: =+'3610043401-noSymbol (9)'!CF24/'3610043401-noSymbol (9)'!BT24-1 -> -0.0036579029
A25: Durable manufacturing industries [T012] 4 | B25: =+'3610043401-noSymbol (9)'!N25/'3610043401-noSymbol (9)'!B25-1 -> 0.024186245 | C25: =+'3610043401-noSymbol (9)'!O25/'3610043401-noSymbol (9)'!C25-1 -> 0.04105083 | D25: =+'3610043401-noSymbol (9)'!P25/'3610043401-noSymbol (9)'!D25-1 -> 0.046547546 | E25: =+'3610043401-noSymbol (9)'!Q25/'3610043401-noSymbol (9)'!E25-1 -> 0.058401829 | F25: =+'3610043401-noSymbol (9)'!R25/'3610043401-noSymbol (9)'!F25-1 -> 0.030876215 | G25: =+'3610043401-noSymbol (9)'!S25/'3610043401-noSymbol (9)'!G25-1 -> 0.037585592 | H25: =+'3610043401-noSymbol (9)'!T25/'3610043401-noSymbol (9)'!H25-1 -> 0.035374246 | I25: =+'3610043401-noSymbol (9)'!U25/'3610043401-noSymbol (9)'!I25-1 -> 0.03973782 | ... BT25: =+'3610043401-noSymbol (9)'!CF25/'3610043401-noSymbol (9)'!BT25-1 -> 0.0020008797
... A300: Aboriginal public administration [914] | B300: =+'3610043401-noSymbol (9)'!N300/'3610043401-noSymbol (9)'!B300-1 -> -0.015856457 | C300: =+'3610043401-noSymbol (9)'!O300/'3610043401-noSymbol (9)'!C300-1 -> 0.0012652889 | D300: =+'3610043401-noSymbol (9)'!P300/'3610043401-noSymbol (9)'!D300-1 -> 0.010739103 | E300: =+'3610043401-noSymbol (9)'!Q300/'3610043401-noSymbol (9)'!E300-1 -> 0.036753771 | F300: =+'3610043401-noSymbol (9)'!R300/'3610043401-noSymbol (9)'!F300-1 -> 0.063638312 | G300: =+'3610043401-noSymbol (9)'!S300/'3610043401-noSymbol (9)'!G300-1 -> 0.081601732 | H300: =+'3610043401-noSymbol (9)'!T300/'3610043401-noSymbol (9)'!H300-1 -> 0.077369439 | I300: =+'3610043401-noSymbol (9)'!U300/'3610043401-noSymbol (9)'!I300-1 -> 0.074461276 | ... BT300: =+'3610043401-noSymbol (9)'!CF300/'3610043401-noSymbol (9)'!BT300-1 -> 0.084341637
A305: Footnotes:
A306: 1
A307: 2
A308: 3
A309: 4
A310: 5
A314: How to cite: Statistics Canada. Table 36-10-0434-01 Gross domestic product (GDP) at basic prices, by industry, monthly (x 1,000,000)
A315: https://www150.statcan.gc.ca/t1/tbl1/en/tv.action?pid=3610043401

Sheet Values
A1: Gross domestic product (GDP) at basic prices, by industry, monthly (x 1,000,000) 1 2
A2: Frequency: Monthly
A3: Table: 36-10-0434-01 (formerly CANSIM 379-0031)
A4: Release date: 2024-01-31
A5: Geography: Canada
A9: Geography
A10: Seasonal adjustment
A11: Prices
A12: North American Industry Classification System (NAICS) | B12: 43101 | C12: 43132 | D12: 43160 | E12: 43191 | F12: 43221 | G12: 43252 | H12: 43282 | I12: 43313 | J12: 43344 | K12: 43374 | L12: 43405 | M12: 43435 | N12: 43466 | O12: 43497 | P12: 43525 | Q12: 43556 | R12: 43586 | S12: 43617 | T12: 43647 | U12: 43678 | V12: 43709 | W12: 43739 | X12: 43770 | Y12: 43800 | Z12: 43831 | AA12: 43862 | AB12: 43891 | AC12: 43922 | AD12: 43952 | AE12: 43983 | AF12: 44013 | AG12: 44044 | AH12: 44075 | AI12: 44105 | AJ12: 44136 | AK12: 44166 | AL12: 44197 | AM12: 44228 | AN12: 44256 | AO12: 44287 | AP12: 44317 | AQ12: 44348 | AR12: 44378 | AS12: 44409 | AT12: 44440 | AU12: 44470 | AV12: 44501 | AW12: 44531 | AX12: 44562 | AY12: 44593 | AZ12: 44621 | BA12: 44652 | BB12: 44682 | BC12: 44713 | BD12: 44743 | BE12: 44774 | BF12: 44805 | BG12: 44835 | BH12: 44866 | BI12: 44896 | BJ12: 44927 | BK12: 44958 | BL12: 44986 | BM12: 45017 | BN12: 45047 | BO12: 45078 | BP12: 45108 | BQ12: 45139 | BR12: 45170 | BS12: 45200 | BT12: 45231
A14: All industries | B14: 0.029795837 | C14: 0.031533476 | D14: 0.031270032 | E14: 0.026466694 | F14: 0.027942502 | G14: 0.026696674 | H14: 0.029298819 | I14: 0.031099401 | J14: 0.030185272 | K14: 0.031807666 | L14: 0.025115855 | M14: 0.024003396 | N14: 0.023138771 | O14: 0.015043298 | P14: 0.01657815 | Q14: 0.022704292 | R14: 0.021800365 | S14: 0.022500863 | T14: 0.020795814 | U14: 0.020058479 | V14: 0.018841339 | W14: 0.017654346 | X14: 0.019295173 | Y14: 0.022825523 | Z14: 0.022603384 | AA14: 0.02733707 | AB14: -0.055051955 | AC14: -0.16161331 | AD14: -0.12585699 | AE14: -0.076677738 | AF14: -0.053223665 | AG14: -0.044088318 | AH14: -0.035498472 | AI14: -0.030478567 | AJ14: -0.023655131 | AK14: -0.026946975 | AL14: -0.024756292 | AM14: -0.024799252 | AN14: 0.065797122 | AO14: 0.18167278 | AP14: 0.12531786 | AQ14: 0.072610352 | AR14: 0.052109611 | AS14: 0.050141877 | AT14: 0.043474351 | AU14: 0.045131291 | AV14: 0.042690246 | AW14: 0.042629015 | AX14: 0.037140557 | AY14: 0.043015843 | AZ14: 0.038751201 | BA14: 0.048740077 | BB14: 0.056210919 | BC14: 0.049719645 | BD14: 0.043965933 | BE14: 0.038948135 | BF14: 0.037822877 | BG14: 0.028402988 | BH14: 0.023847427 | BI14: 0.019309159 | BJ14: 0.027133684 | BK14: 0.021798809 | BL14: 0.016370161 | BM14: 0.016750886 | BN14: 0.016895707 | BO14: 0.012767139 | BP14: 0.011381894 | BQ14: 0.0085579334 | BR14: 0.0068287991 | BS14: 0.0088904957 | BT14: 0.01115512
A15: Goods-producing industries | B15: 0.027063629 | C15: 0.037829157 | D15: 0.045035515 | E15: 0.03685453 | F15: 0.029908916 | G15: 0.030070359 | H15: 0.029304314 | I15: 0.035920686 | J15: 0.029752767 | K15: 0.031273152 | L15: 0.016039231 | M15: 0.0095075339 | N15: 0.0050585457 | O15: -0.0069214565 | P15: -0.0087368916 | Q15: 0.0044230244 | R15: 0.012910748 | S15: 0.007922529 | T15: -0.0010407071 | U15: 0.00088978495 | V15: 0.0031317529 | W15: 0.0029479004 | X15: 0.0060708671 | Y15: 0.013805778 | Z15: 0.010225469 | AA15: 0.020968263 | AB15: -0.038583667 | AC15: -0.193921 | AD15: -0.12901414 | AE15: -0.079624847 | AF15: -0.055417315 | AG15: -0.049570231 | AH15: -0.043309259 | AI15: -0.036542852 | AJ15: -0.022629263 | AK15: -0.018436507 | AL15: -0.0054941745 | AM15: -0.018519689 | AN15: 0.044354794 | AO15: 0.22303961 | AP15: 0.11522935 | AQ15: 0.064143191 | AR15: 0.036677404 | AS15: 0.033986601 | AT15: 0.020047872 | AU15: 0.032098458 | AV15: 0.021453104 | AW15: 0.021068381 | AX15: 0.023877858 | AY15: 0.034138023 | AZ15: 0.029741375 | BA15: 0.037532544 | BB15: 0.044192982 | BC15: 0.044464943 | BD15: 0.049161826 | BE15: 0.052340243 | BF15: 0.059404134 | BG15: 0.032714724 | BH15: 0.031105872 | BI15: 0.013663021 | BJ15: 0.0077951273 | BK15: 0.0052221128 | BL15: 0.00020096567 | BM15: -0.0029603965 | BN15: -0.0034821756 | BO15: -0.013020491 | BP15: -0.012493919 | BQ15: -0.020071499 | BR15: -0.018584198 | BS15: -0.012541468 | BT15: -0.0060854124
A16: Service-producing industries | B16: 0.029986948 | C16: 0.028285846 | D16: 0.025287962 | E16: 0.021992946 | F16: 0.027050314 | G16: 0.025495917 | H16: 0.029603423 | I16: 0.029744942 | J16: 0.030923397 | K16: 0.032589112 | L16: 0.02910827 | M16: 0.029971875 | N16: 0.03025416 | O16: 0.023666545 | P16: 0.026554656 | Q16: 0.029866506 | R16: 0.025214808 | S16: 0.028104618 | T16: 0.029178995 | U16: 0.027345934 | V16: 0.024766298 | W16: 0.023211355 | X16: 0.024288587 | Y16: 0.026194187 | Z16: 0.027008381 | AA16: 0.02971021 | AB16: -0.060529296 | AC16: -0.15000105 | AD16: -0.12435378 | AE16: -0.075373739 | AF16: -0.052403366 | AG16: -0.042228206 | AH16: -0.03284714 | AI16: -0.028484365 | AJ16: -0.024179319 | AK16: -0.030058318 | AL16: -0.031399892 | AM16: -0.027043497 | AN16: 0.073361141 | AO16: 0.16799197 | AP16: 0.12887894 | AQ16: 0.075624838 | AR16: 0.057516102 | AS16: 0.055744252 | AT16: 0.051513993 | AU16: 0.049601367 | AV16: 0.049949638 | AW16: 0.049981964 | AX16: 0.041593049 | AY16: 0.045915253 | AZ16: 0.041729027 | BA16: 0.052529581 | BB16: 0.060302699 | BC16: 0.051498199 | BD16: 0.042209114 | BE16: 0.034514175 | BF16: 0.030785265 | BG16: 0.027088825 | BH16: 0.021591928 | BI16: 0.021394331 | BJ16: 0.033974723 | BK16: 0.0276496 | BL16: 0.022012388 | BM16: 0.023556945 | BN16: 0.023829444 | BO16: 0.021532334 | BP16: 0.019434201 | BQ16: 0.018204417 | BR16: 0.015350638 | BS16: 0.015976485 | BT16: 0.016835723
A17: Business sector industries [T004] | B17: 0.029207049 | C17: 0.030884082 | D17: 0.030186906 | E17: 0.023858853 | F17: 0.025266685 | G17: 0.024176322 | H17: 0.027928506 | I17: 0.03076961 | J17: 0.030475011 | K17: 0.032446831 | L17: 0.024693155 | M17: 0.024130771 | N17: 0.02353276 | O17: 0.014162862 | P17: 0.016223377 | Q17: 0.024365243 | R17: 0.023818325 | S17: 0.025048004 | T17: 0.022622472 | U17: 0.021854546 | V17: 0.020442058 | W17: 0.018454599 | X17: 0.020221395 | Y17: 0.023668213 | Z17: 0.022915059 | AA17: 0.028503685 | AB17: -0.059167658 | AC17: -0.1798264 | AD17: -0.14128438 | AE17: -0.084250222 | AF17: -0.0605308 | AG17: -0.052303788 | AH17: -0.043718387 | AI17: -0.038024119 | AJ17: -0.029804011 | AK17: -0.034250632 | AL17: -0.03120466 | AM17: -0.031933116 | AN17: 0.063057352 | AO17: 0.19793911 | AP17: 0.13185692 | AQ17: 0.06867339 | AR17: 0.048560355 | AS17: 0.049583456 | AT17: 0.042370555 | AU17: 0.046287653 | AV17: 0.04322 | AW17: 0.04420456 | AX17: 0.038994036 | AY17: 0.046148374 | AZ17: 0.043649461 | BA17: 0.053216895 | BB17: 0.063835959 | BC17: 0.056670762 | BD17: 0.050426365 | BE17: 0.043831978 | BF17: 0.043143805 | BG17: 0.029462282 | BH17: 0.023364589 | BI17: 0.017411819 | BJ17: 0.02527331 | BK17: 0.019099454 | BL17: 0.011607591 | BM17: 0.013633923 | BN17: 0.013210723 | BO17: 0.0082961902 | BP17: 0.0061519138 | BQ17: 0.0022867838 | BR17: 8.7709237e-05 | BS17: 0.0033058495 | BT17: 0.0070994722
A18: Business sector, goods [T005] | B18: 0.027434771 | C18: 0.038231431 | D18: 0.04551356 | E18: 0.037276828 | F18: 0.030268904 | G18: 0.030354236 | H18: 0.029626765 | I18: 0.036243373 | J18: 0.030066576 | K18: 0.03167663 | L18: 0.016290327 | M18: 0.0097282003 | N18: 0.0052088149 | O18: -0.0068069573 | P18: -0.0086748732 | Q18: 0.0045938109 | R18: 0.013108047 | S18: 0.0081450743 | T18: -0.0009264311 | U18: 0.0010691972 | V18: 0.0033162797 | W18: 0.0030113876 | X18: 0.0061497614 | Y18: 0.01392608 | Z18: 0.010345611 | AA18: 0.021256489 | AB18: -0.038503455 | AC18: -0.19475692 | AD18: -0.12946357 | AE18: -0.080033873 | AF18: -0.055898044 | AG18: -0.050093744 | AH18: -0.043784367 | AI18: -0.036995165 | AJ18: -0.022917083 | AK18: -0.018710852 | AL18: -0.0056446747 | AM18: -0.018913826 | AN18: 0.044058062 | AO18: 0.22387857 | AP18: 0.11506165 | AQ18: 0.063880522 | AR18: 0.036498886 | AS18: 0.033873572 | AT18: 0.019885583 | AU18: 0.032090566 | AV18: 0.021268442 | AW18: 0.020881776 | AX18: 0.023726598 | AY18: 0.03415118 | AZ18: 0.029820149 | BA18: 0.037553987 | BB18: 0.044521602 | BC18: 0.044940081 | BD18: 0.049692254 | BE18: 0.052922155 | BF18: 0.059959642 | BG18: 0.033033285 | BH18: 0.031471455 | BI18: 0.01393586 | BJ18: 0.0079529592 | BK18: 0.005407696 | BL18: 0.00037563334 | BM18: -0.0028056188 | BN18: -0.0034679376 | BO18: -0.013098617 | BP18: -0.012531436 | BQ18: -0.020227921 | BR18: -0.01870246 | BS18: -0.012617663 | BT18: -0.0061254575
A19: Business sector, services [T006] | B19: 0.030180711 | C19: 0.027299579 | D19: 0.022562667 | E19: 0.017153118 | F19: 0.022762495 | G19: 0.021010104 | H19: 0.02696185 | I19: 0.027919122 | J19: 0.030571072 | K19: 0.032723063 | L19: 0.028874154 | M19: 0.031433873 | N19: 0.032896362 | O19: 0.024918136 | P19: 0.029133078 | Q19: 0.03463729 | R19: 0.029323615 | S19: 0.033749487 | T19: 0.034762676 | U19: 0.032487296 | V19: 0.029164705 | W19: 0.026304592 | X19: 0.027363647 | Y19: 0.028564873 | Z19: 0.028646073 | AA19: 0.031875775 | AB19: -0.068556783 | AC19: -0.17261582 | AD19: -0.14644247 | AE19: -0.085966618 | AF19: -0.062669327 | AG19: -0.053416266 | AH19: -0.043835289 | AI19: -0.038662046 | AJ19: -0.033231726 | AK19: -0.041687632 | AL19: -0.042766798 | AM19: -0.037891538 | AN19: 0.072081063 | AO19: 0.18616682 | AP19: 0.13985005 | AQ19: 0.070920994 | AR19: 0.054155326 | AS19: 0.056824797 | AT19: 0.052707025 | AU19: 0.052829436 | AV19: 0.05336218 | AW19: 0.055075999 | AX19: 0.046162054 | AY19: 0.051712704 | AZ19: 0.050064763 | BA19: 0.060528352 | BB19: 0.072835836 | BC19: 0.062079467 | BD19: 0.050727473 | BE19: 0.039716502 | BF19: 0.035652854 | BG19: 0.02784579 | BH19: 0.019749359 | BI19: 0.018988781 | BJ19: 0.033221788 | BK19: 0.02540005 | BL19: 0.016747296 | BM19: 0.021168119 | BN19: 0.020766126 | BO19: 0.018071579 | BP19: 0.014639814 | BQ19: 0.01252607 | BR19: 0.008604491 | BS19: 0.010481217 | BT19: 0.01305374
A20: Non-business sector industries [T007] | B20: 0.028755008 | C20: 0.030589495 | D20: 0.032757665 | E20: 0.035666073 | F20: 0.038934354 | G20: 0.038188323 | H20: 0.036796806 | I20: 0.034660815 | J20: 0.031525716 | K20: 0.031751749 | L20: 0.029503722 | M20: 0.025459617 | N20: 0.022540831 | O20: 0.019848676 | P20: 0.01881287 | Q20: 0.015762711 | R20: 0.013062706 | S20: 0.011290462 | T20: 0.012485927 | U20: 0.011768328 | V20: 0.011312194 | W20: 0.013573965 | X20: 0.014624719 | Y20: 0.018524887 | Z20: 0.021965901 | AA20: 0.022974283 | AB20: -0.037268209 | AC20: -0.084006709 | AD20: -0.059870332 | AE20: -0.043935772 | AF20: -0.021756349 | AG20: -0.0087874006 | AH20: -5.9306169e-05 | AI20: 0.0019587027 | AJ20: 0.0029341247 | AK20: 0.0047989604 | AL20: 0.0022552678 | AM20: 0.0051076287 | AN20: 0.077093045 | AO20: 0.12023615 | AP20: 0.10013357 | AQ20: 0.088770415 | AR20: 0.06675229 | AS20: 0.052562302 | AT20: 0.048002166 | AU20: 0.040395593 | AV20: 0.040325367 | AW20: 0.035848307 | AX20: 0.02897568 | AY20: 0.029774561 | AZ20: 0.018417893 | BA20: 0.030261077 | BB20: 0.025657587 | BC20: 0.022012493 | BD20: 0.018262549 | BE20: 0.019482188 | BF20: 0.016722029 | BG20: 0.024512935 | BH20: 0.026379499 | BI20: 0.02770384 | BJ20: 0.035522383 | BK20: 0.033553801 | BL20: 0.036579854 | BM20: 0.029899461 | BN20: 0.032216099 | BO20: 0.031118288 | BP20: 0.032721013 | BQ20: 0.03412774 | BR20: 0.034367846 | BS20: 0.031308216 | BT20: 0.027235638
A21: Non-business sector, goods [T008] | B21: -0.016806723 | C21: -0.010664851 | D21: -0.010899183 | E21: -0.016132697 | F21: -0.013907889 | G21: -0.005726065 | H21: -0.011691884 | I21: -0.0057471264 | J21: -0.010295127 | K21: -0.020618557 | L21: -0.017011494 | M21: -0.019607843 | N21: -0.015939016 | O21: -0.022018349 | P21: -0.017906336 | Q21: -0.015242494 | R21: -0.011560694 | S21: -0.021423635 | T21: -0.015309673 | U21: -0.021965318 | V21: -0.020110957 | W21: -0.0051461988 | X21: -0.0032740879 | Y21: -0.0018823529 | Z21: -0.0014084507 | AA21: -0.012898687 | AB21: -0.04628331 | AC21: -0.090994371 | AD21: -0.073684211 | AE21: -0.027542373 | AF21: 0.005418139 | AG21: 0.01536643 | AH21: 0.015333805 | AI21: 0.020926405 | AJ21: 0.013608634 | AK21: 0.016737388 | AL21: 0.011988717 | AM21: 0.032786885 | AN21: 0.080147059 | AO21: 0.13286894 | AP21: 0.13510101 | AQ21: 0.092713629 | AR21: 0.055060918 | AS21: 0.047729919 | AT21: 0.040659851 | AU21: 0.032012897 | AV21: 0.04212963 | AW21: 0.043357292 | AX21: 0.040650407 | AY21: 0.030135726 | AZ21: 0.022010438 | BA21: 0.033705306 | BB21: 0.0064516129 | BC21: -0.0084182543 | BD21: -0.0097712636 | BE21: -0.014222222 | BF21: -0.007367716 | BG21: -0.0066949342 | BH21: -0.012216793 | BI21: -0.016888889 | BJ21: -0.0082589286 | BK21: -0.014515409 | BL21: -0.023090586 | BM21: -0.021150033 | BN21: -0.0050839965 | BO21: -0.0026809651 | BP21: -0.0080735591 | BQ21: -0.0011271416 | BR21: -0.0020242915 | BS21: -0.00067400584 | BT21: 0
A22: Non-business sector, services [T009] | B22: 0.029302518 | C22: 0.031075602 | D22: 0.033263528 | E22: 0.03628951 | F22: 0.039581977 | G22: 0.038715193 | H22: 0.037384791 | I22: 0.035152121 | J22: 0.032028722 | K22: 0.032373269 | L22: 0.030080145 | M22: 0.026014959 | N22: 0.023021695 | O22: 0.020370723 | P22: 0.019259461 | Q22: 0.016125595 | R22: 0.01335049 | S22: 0.011655666 | T22: 0.012810352 | U22: 0.012163813 | V22: 0.01167857 | W22: 0.013789978 | X22: 0.014826072 | Y22: 0.018734604 | Z22: 0.022224794 | AA22: 0.023368048 | AB22: -0.037169367 | AC22: -0.083930566 | AD22: -0.059722946 | AE22: -0.044107721 | AF22: -0.022051746 | AG22: -0.0090562378 | AH22: -0.00024505715 | AI22: 0.001743831 | AJ22: 0.002808216 | AK22: 0.0046757492 | AL22: 0.0021280976 | AM22: 0.0048186087 | AN22: 0.077061401 | AO22: 0.12010965 | AP22: 0.099764435 | AQ22: 0.088728085 | AR22: 0.066873468 | AS22: 0.052645286 | AT22: 0.048126418 | AU22: 0.040502677 | AV22: 0.040302293 | AW22: 0.035764665 | AX22: 0.028857042 | AY22: 0.029757157 | AZ22: 0.018415647 | BA22: 0.0302219 | BB22: 0.025863051 | BC22: 0.022355118 | BD22: 0.018573011 | BE22: 0.019825512 | BF22: 0.016984869 | BG22: 0.024843667 | BH22: 0.026801708 | BI22: 0.028194881 | BJ22: 0.036006739 | BK22: 0.034080444 | BL22: 0.037201065 | BM22: 0.030468572 | BN22: 0.032642282 | BO22: 0.031485202 | BP22: 0.033162501 | BQ22: 0.034508447 | BR22: 0.034728321 | BS22: 0.031652037 | BT22: 0.027534072
A23: Industrial production [T010] 4 | B23: 0.016272899 | C23: 0.030810877 | D23: 0.041822185 | E23: 0.035488859 | F23: 0.019685768 | G23: 0.030559651 | H23: 0.035266806 | I23: 0.047173336 | J23: 0.044612971 | K23: 0.053822463 | L23: 0.0355814 | M23: 0.023981572 | N23: 0.015412108 | O23: 0.0023268104 | P23: -0.0020578151 | Q23: 0.01713894 | R23: 0.024796852 | S23: 0.0080637043 | T23: -0.012168483 | U23: -0.0091153679 | V23: -0.0089201208 | W23: -0.011982988 | X23: -0.011307678 | Y23: -0.0014461703 | Z23: -0.0036299737 | AA23: 0.010377747 | AB23: -0.064837918 | AC23: -0.22461114 | AD23: -0.17659869 | AE23: -0.12108909 | AF23: -0.074345069 | AG23: -0.068032636 | AH23: -0.058721377 | AI23: -0.052665612 | AJ23: -0.030166273 | AK23: -0.024746554 | AL23: -0.010287788 | AM23: -0.035640217 | AN23: 0.039346675 | AO23: 0.20859276 | AP23: 0.13362628 | AQ23: 0.09008279 | AR23: 0.049239805 | AS23: 0.048397898 | AT23: 0.030604292 | AU23: 0.046897653 | AV23: 0.024264512 | AW23: 0.023177214 | AX23: 0.023563198 | AY23: 0.040609782 | AZ23: 0.038278153 | BA23: 0.062346677 | BB23: 0.060487753 | BC23: 0.05076415 | BD23: 0.046206705 | BE23: 0.043128134 | BF23: 0.053907792 | BG23: 0.018105155 | BH23: 0.023603106 | BI23: 0.0061038378 | BJ23: 0.0037773418 | BK23: 0.0083859945 | BL23: 0.0052768642 | BM23: -0.00025978456 | BN23: 0.0042209193 | BO23: -0.0063691607 | BP23: -0.0026881791 | BQ23: -0.010035957 | BR23: -0.013345962 | BS23: -0.002312873 | BT23: 0.0045123753
A24: Non-durable manufacturing industries [T011] 4 | B24: 0.029517446 | C24: 0.021542301 | D24: 0.018002354 | E24: 0.0051483725 | F24: -0.0075499115 | G24: 0.020830712 | H24: 0.034384711 | I24: 0.045812803 | J24: 0.050402254 | K24: 0.027802958 | L24: 0.021662063 | M24: 0.0091710162 | N24: -0.0027191749 | O24: -0.01076324 | P24: -0.010310459 | Q24: 0.0039966344 | R24: 0.019554169 | S24: -0.025088575 | T24: -0.034273802 | U24: -0.024299971 | V24: -0.029952883 | W24: -0.0064228941 | X24: -0.0053239973 | Y24: 0.005350001 | Z24: -0.013706072 | AA24: 0.0028282572 | AB24: -0.02624462 | AC24: -0.16159648 | AD24: -0.12342082 | AE24: -0.05611385 | AF24: -0.015702873 | AG24: -0.01845962 | AH24: -0.01005078 | AI24: -0.0018589108 | AJ24: 0.011392273 | AK24: -0.0036032283 | AL24: 0.031341355 | AM24: 0.0042830383 | AN24: 0.046263576 | AO24: 0.19997751 | AP24: 0.12959138 | AQ24: 0.082194074 | AR24: 0.045312349 | AS24: 0.055193128 | AT24: 0.028865454 | AU24: 0.035353694 | AV24: 0.020942301 | AW24: 0.036559747 | AX24: 0.026979285 | AY24: 0.057705406 | AZ24: 0.048607668 | BA24: 0.039692208 | BB24: 0.033032055 | BC24: 0.016891822 | BD24: 0.014788761 | BE24: 0.0075291525 | BF24: 0.02112945 | BG24: -0.012025547 | BH24: -0.029528631 | BI24: -0.037125543 | BJ24: -0.041260825 | BK24: -0.059728552 | BL24: -0.056687221 | BM24: -0.046178806 | BN24: -0.018770411 | BO24: -0.027036346 | BP24: -0.035328455 | BQ24: -0.041678058 | BR24: -0.039362756 | BS24: -0.03132991 | BT24: -0.0036579029
... A194: Cannabis stores [453B] | B194: 0.0082987552 | C194: 0.012427506 | D194: 0.014072848 | E194: 0.014061208 | F194: 0.023966942 | G194: 0.043010753 | H194: 0.067768595 | I194: 0.07781457 | J194: 0.07219917 | K194: 0.081666667 | L194: 0.055786844 | M194: 0.0074257426 | N194: 0.0016460905 | O194: -0.010638298 | P194: -0.011428571 | Q194: 0.0073409462 | R194: 0.020177563 | S194: 0.014274385 | T194: 0.0054179567 | U194: 0.023809524 | V194: 0.020123839 | W194: 0.016178737 | X194: 0.04022082 | Y194: 0.1015561 | Z194: 0.098603122 | AA194: 0.077750207 | AB194: 0.1073493 | AC194: 0.056680162 | AD194: 0.023734177 | AE194: 0.014855356 | AF194: 0.025404157 | AG194: 0.010502626 | AH194: 0.03414264 | AI194: 0.054586808 | AJ194: 0.038665656 | AK194: 0.075836431 | AL194: 0.062827225 | AM194: 0.066768995 | AN194: 0.095451156 | AO194: 0.12643678 | AP194: 0.16383308 | AQ194: 0.15023112 | AR194: 0.19594595 | AS194: 0.20638456 | AT194: 0.19148936 | AU194: 0.17900791 | AV194: 0.16423358 | AW194: 0.1243953 | AX194: 0.12737509 | AY194: 0.14388489 | AZ194: 0.10142954 | BA194: 0.12380952 | BB194: 0.094289509 | BC194: 0.10381782 | BD194: 0.050847458 | BE194: 0.017846154 | BF194: 0.022783251 | BG194: 0.0079268293 | BH194: 0.023824451 | BI194: -0.0055316533 | BJ194: 0.020599251 | BK194: 0.030188679 | BL194: 0.029666255 | BM194: 0.030871671 | BN194: 0.040048544 | BO194: 0.063106796 | BP194: 0.059139785 | BQ194: 0.10096735 | BR194: 0.090909091 | BS194: 0.10344828 | BT194: 0.11267606
A195: Cannabis stores (licensed) [453BL] | B195: #DIV/0! | C195: #DIV/0! | D195: #DIV/0! | E195: #DIV/0! | F195: #DIV/0! | G195: #DIV/0! | H195: #DIV/0! | I195: #DIV/0! | J195: #DIV/0! | K195: #DIV/0! | L195: #DIV/0! | M195: #DIV/0! | N195: #DIV/0! | O195: #DIV/0! | P195: #DIV/0! | Q195: #DIV/0! | R195: #DIV/0! | S195: #DIV/0! | T195: #DIV/0! | U195: #DIV/0! | V195: #DIV/0! | W195: 7.2222222 | X195: 5.6170213 | Y195: 6.06 | Z195: 4.5625 | AA195: 3.7183099 | AB195: 3.375 | AC195: 2.0165289 | AD195: 1.29375 | AE195: 1.0588235 | AF195: 0.94618834 | AG195: 0.67153285 | AH195: 0.73913043 | AI195: 0.71621622 | AJ195: 0.585209 | AK195: 0.61473088 | AL195: 0.53651685 | AM195: 0.55223881 | AN195: 0.56103896 | AO195: 0.65479452 | AP195: 0.75476839 | AQ195: 0.65714286 | AR195: 0.70506912 | AS195: 0.70524017 | AT195: 0.62708333 | AU195: 0.58267717 | AV195: 0.55578093 | AW195: 0.4122807 | AX195: 0.43875686 | AY195: 0.50384615 | AZ195: 0.359401 | BA195: 0.41887417 | BB195: 0.33540373 | BC195: 0.36050157 | BD195: 0.22027027 | BE195: 0.14212548 | BF195: 0.14724712 | BG195: 0.10696517 | BH195: 0.136897 | BI195: 0.068322981 | BJ195: 0.11944091 | BK195: 0.13682864 | BL195: 0.12239902 | BM195: 0.11318553 | BN195: 0.12325581 | BO195: 0.15552995 | BP195: 0.13842746 | BQ195: 0.20627803 | BR195: 0.19308036 | BS195: 0.21573034 | BT195: 0.23738532
A196: Cannabis stores (unlicensed) [453BU] | B196: 0.0082987552 | C196: 0.012427506 | D196: 0.014072848 | E196: 0.014061208 | F196: 0.023966942 | G196: 0.043010753 | H196: 0.067768595 | I196: 0.07781457 | J196: 0.07219917 | K196: 0.048333333 | L196: 0.013322231 | M196: -0.037128713 | N196: -0.054320988 | O196: -0.072831424 | P196: -0.087346939 | Q196: -0.096247961 | R196: -0.11460856 | S196: -0.14115781 | T196: -0.17569659 | U196: -0.19662058 | V196: -0.20433437 | W196: -0.20031797 | X196: -0.18734593 | Y196: -0.16880891 | Z196: -0.16797215 | AA196: -0.16946161 | AB196: -0.17173524 | AC196: -0.17960289 | AD196: -0.18505014 | AE196: -0.18836565 | AF196: -0.19061033 | AG196: -0.18546845 | AH196: -0.17801556 | AI196: -0.1610338 | AJ196: -0.15166835 | AK196: -0.1371134 | AL196: -0.12552301 | AM196: -0.11477152 | AN196: -0.10367171 | AO196: -0.089108911 | AP196: -0.078299776 | AQ196: -0.069397042 | AR196: -0.056844548 | AS196: -0.056338028 | AT196: -0.049704142 | AU196: -0.056872038 | AV196: -0.059594756 | AW196: -0.065710872 | AX196: -0.072966507 | AY196: -0.078031212 | AZ196: -0.084337349 | BA196: -0.09057971 | BB196: -0.094660194 | BC196: -0.097799511 | BD196: -0.10455105 | BE196: -0.10447761 | BF196: -0.099626401 | BG196: -0.094221106 | BH196: -0.088719899 | BI196: -0.083120205 | BJ196: -0.081290323 | BK196: -0.079427083 | BL196: -0.069736842 | BM196: -0.062416999 | BN196: -0.054959786 | BO196: -0.044715447 | BP196: -0.038461538 | BQ196: -0.029166667 | BR196: -0.035961272 | BS196: -0.034674064 | BT196: -0.037552156
A197: Non-store retailers [454] | B197: 0.10491003 | C197: 0.052663076 | D197: -0.01979346 | E197: -0.016166282 | F197: 0.0014662757 | G197: 0.032230216 | H197: -0.010089363 | I197: 0.022359518 | J197: 0.012650417 | K197: 0.054781801 | L197: -0.011255411 | M197: 0.0032476319 | N197: -0.020149048 | O197: 0.059408755 | P197: 0.12291484 | Q197: 0.16842723 | R197: 0.1897511 | S197: 0.13186507 | T197: 0.21986022 | U197: 0.2094964 | V197: 0.28458257 | W197: 0.29577465 | X197: 0.31465266 | Y197: 0.19800378 | Z197: 0.19126761 | AA197: 0.13603434 | AB197: 0.1336982 | AC197: 0.35258664 | AD197: 0.30962343 | AE197: 0.28497537 | AF197: 0.38672714 | AG197: 0.36164644 | AH197: 0.27039848 | AI197: 0.20471014 | AJ197: 0.20692718 | AK197: 0.28507093 | AL197: 0.35374793 | AM197: 0.38875768 | AN197: 0.40436782 | AO197: 0.10675826 | AP197: 0.057883856 | AQ197: 0.060187847 | AR197: 0.0180754 | AS197: 0.012755548 | AT197: 0.050597461 | AU197: 0.055263158 | AV197: 0.005334805 | AW197: 0.0052567023 | AX197: 0.03231441 | AY197: -0.059013605 | AZ197: -0.14879686 | BA197: -0.12715987 | BB197: 0.0058624978 | BC197: 0.032001446 | BD197: -0.091646939 | BE197: -0.0087991718 | BF197: 0.030744624 | BG197: -0.0017812611 | BH197: 0.015187557 | BI197: -0.044274011 | BJ197: -0.082402707 | BK197: -0.049521055 | BL197: 0.0275 | BM197: 0.037478378 | BN197: -0.037619216 | BO197: -0.057288017 | BP197: -0.03201787 | BQ197: -0.069103568 | BR197: -0.085862069 | BS197: -0.059243398 | BT197: -0.027577505
A198: Retail trade (except unlicensed cannabis) [4AZ] 4 | B198: -0.0026786418 | C198: 0.0077110949 | D198: 0.0095286056 | E198: -0.001169154 | F198: 0.03321161 | G198: 0.023104102 | H198: 0.032227838 | I198: 0.045282153 | J198: 0.056220635 | K198: 0.034886457 | L198: 0.037938616 | M198: 0.046497794 | N198: 0.043151118 | O198: 0.026660151 | P198: 0.036776573 | Q198: 0.040112528 | R198: 0.013725396 | S198: 0.027000434 | T198: 0.027754708 | U198: 0.017654754 | V198: 0.0099020231 | W198: -0.0009948269 | X198: 0.0058323439 | Y198: 0.021448534 | Z198: 0.0081596335 | AA198: 0.0059208209 | AB198: -0.10697271 | AC198: -0.25886592 | AD198: -0.13395 | AE198: 0.0073921701 | AF198: 0.0035048485 | AG198: -0.0015856634 | AH198: 0.027217145 | AI198: 0.050246109 | AJ198: 0.056776436 | AK198: 0.007586789 | AL198: -0.0052674078 | AM198: 0.065190442 | AN198: 0.22128671 | AO198: 0.38818921 | AP198: 0.14565628 | AQ198: 0.029827228 | AR198: 0.033793084 | AS198: 0.059815245 | AT198: 0.025691429 | AU198: 0.021564219 | AV198: 0.015406475 | AW198: 0.018640058 | AX198: 0.055407153 | AY198: -0.0028694787 | AZ198: -0.013692942 | BA198: 0.037107849 | BB198: 0.081504971 | BC198: 0.021276596 | BD198: 0.019944568 | BE198: 0.0048059871 | BF198: 0.0072469581 | BG198: -0.0067888303 | BH198: -0.02010121 | BI198: 0.015407276 | BJ198: 0.017180471 | BK198: 0.016250746 | BL198: -0.0047533853 | BM198: 0.013312298 | BN198: 0.010398781 | BO198: 0.016294326 | BP198: 0.016934854 | BQ198: 0.0091247639 | BR198: 0.013548912 | BS198: 0.028916242 | BT198: 0.03700344
A199: Transportation and warehousing [48-49] | B199: 0.052094992 | C199: 0.05358625 | D199: 0.039690042 | E199: 0.018973045 | F199: 0.012389285 | G199: 0.0065204124 | H199: 0.015121751 | I199: 0.011219654 | J199: 0.012056034 | K199: 0.013097858 | L199: -0.0043739516 | M199: 0.00084550508 | N199: 0.0050347588 | O199: -0.011491476 | P199: 7.4002812e-05 | Q199: 0.019280576 | R199: 0.032861395 | S199: 0.027635946 | T199: 0.042520388 | U199: 0.05159679 | V199: 0.03588484 | W199: 0.04706194 | X199: 0.056812608 | Y199: 0.07631629 | Z199: 0.049215033 | AA199: 0.044056234 | AB199: -0.12748684 | AC199: -0.38831378 | AD199: -0.38524074 | AE199: -0.32456576 | AF199: -0.30739026 | AG199: -0.30988378 | AH199: -0.2888371 | AI199: -0.27823209 | AJ199: -0.26128544 | AK199: -0.27002208 | AL199: -0.26559722 | AM199: -0.26376803 | AN199: -0.11366886 | AO199: 0.23858935 | AP199: 0.20862669 | AQ199: 0.10657308 | AR199: 0.10762933 | AS199: 0.14062706 | AT199: 0.12937708 | AU199: 0.11761901 | AV199: 0.10507553 | AW199: 0.094068788 | AX199: 0.053832762 | AY199: 0.11275004 | AZ199: 0.14861392 | BA199: 0.17279691 | BB199: 0.20207427 | BC199: 0.21059483 | BD199: 0.1524768 | BE199: 0.11634356 | BF199: 0.11709029 | BG199: 0.11348381 | BH199: 0.10073294 | BI199: 0.075452692 | BJ199: 0.1507576 | BK199: 0.11141341 | BL199: 0.073892036 | BM199: 0.065219182 | BN199: 0.049280625 | BO199: 0.034515107 | BP199: 0.041228789 | BQ199: 0.0461634 | BR199: 0.03402788 | BS199: 0.02453013 | BT199: 0.029037583
A200: Air transportation [481] | B200: 0.034557662 | C200: 0.030869052 | D200: 0.037443011 | E200: -0.0031434559 | F200: 0.028749259 | G200: 0.036428079 | H200: 0.027788536 | I200: 0.012440646 | J200: 0.027287629 | K200: 0.030146341 | L200: 0.0076093238 | M200: 0.010876889 | N200: -0.0072532926 | O200: -0.0052450887 | P200: -0.028798504 | Q200: 0.0042044912 | R200: 0.009315279 | S200: 0.0076944999 | T200: 0.0048045219 | U200: 0.013788575 | V200: 0.028721607 | W200: 0.07576475 | X200: 0.11442501 | Y200: 0.13102266 | Z200: 0.094789464 | AA200: 0.054932413 | AB200: -0.39433908 | AC200: -0.98915216 | AD200: -0.99000951 | AE200: -0.98425716 | AF200: -0.97346709 | AG200: -0.96659882 | AH200: -0.96788321 | AI200: -0.96663439 | AJ200: -0.96534569 | AK200: -0.96228321 | AL200: -0.95741131 | AM200: -0.96764813 | AN200: -0.94770307 | AO200: 2.9210526 | AP200: 3.5619048 | AQ200: 3.2994012 | AR200: 4.1978799 | AS200: 6.0249307 | AT200: 7.2045455 | AU200: 8.0369393 | AV200: 9.1782178 | AW200: 9.2008929 | AX200: 5.8639175 | AY200: 9.0926966 | AZ200: 13.422492 | BA200: 10.82774 | BB200: 11.08142 | BC200: 7.3175487 | BD200: 3.0897349 | BE200: 1.3836751 | BF200: 1.158241 | BG200: 0.88992701 | BH200: 0.57611868 | BI200: 0.397593 | BJ200: 0.98017423 | BK200: 0.8664069 | BL200: 0.43561644 | BM200: 0.31038396 | BN200: 0.21634698 | BO200: 0.16426658 | BP200: 0.15325798 | BQ200: 0.17171216 | BR200: 0.15658591 | BS200: 0.13409547 | BT200: 0.15460577
